BEGIN:VCALENDAR
VERSION:2.0
PRODID:-//Garage Style Magazine - ECPv6.15.20//NONSGML v1.0//EN
CALSCALE:GREGORIAN
METHOD:PUBLISH
X-WR-CALNAME:Garage Style Magazine
X-ORIGINAL-URL:https://garagestylemagazine.com
X-WR-CALDESC:Events for Garage Style Magazine
REFRESH-INTERVAL;VALUE=DURATION:PT1H
X-Robots-Tag:noindex
X-PUBLISHED-TTL:PT1H
BEGIN:VTIMEZONE
TZID:UTC
BEGIN:STANDARD
TZOFFSETFROM:+0000
TZOFFSETTO:+0000
TZNAME:UTC
DTSTART:20240101T000000
END:STANDARD
END:VTIMEZONE
BEGIN:VEVENT
DTSTART;VALUE=DATE:20250305
DTEND;VALUE=DATE:20250313
DTSTAMP:20260425T193614
CREATED:20250305T123725Z
LAST-MODIFIED:20250305T123725Z
UID:14261-1741132800-1741823999@garagestylemagazine.com
SUMMARY:The Oscar Davis Memorial Collection
DESCRIPTION:Rehoming a number of unqiue\, highly detailed model aircrafts and roughly 60 assorted automobile books\, this sale will be a rare opportunity for sure.
URL:https://garagestylemagazine.com/event/the-oscar-davis-memorial-collection/
CATEGORIES:Auction
ATTACH;FMTTYPE=image/jpeg:https://garagestylemagazine.com/wp-content/uploads/2025/03/OIP.jpg
END:VEVENT
BEGIN:VEVENT
DTSTART;VALUE=DATE:20250306
DTEND;VALUE=DATE:20250309
DTSTAMP:20260425T193614
CREATED:20250305T124813Z
LAST-MODIFIED:20250305T124813Z
UID:14269-1741219200-1741478399@garagestylemagazine.com
SUMMARY:Broad Arrow Auctions: Amelia Island
DESCRIPTION:Hosting its third auction as the official auction of the Amelia Island Concours\, Broad Arrow will amass a large variety of collector cars ranging from pre-war to motorsports to modern supercars.
URL:https://garagestylemagazine.com/event/broad-arrow-auctions-amelia-island/
LOCATION:The Ritz-Carlton Amelia Island\, 4750 Amelia Island Pkwy\, Amelia Island\, FL\, 32034\, United States
CATEGORIES:Auction
ATTACH;FMTTYPE=image/jpeg:https://garagestylemagazine.com/wp-content/uploads/2023/08/baa-logo-green-stacked-copy.jpg
ORGANIZER;CN="Broad Arrow Auctions":MAILTO:info@broadarrowauctions.com
END:VEVENT
BEGIN:VEVENT
DTSTART;VALUE=DATE:20250306
DTEND;VALUE=DATE:20250310
DTSTAMP:20260425T193614
CREATED:20250305T124047Z
LAST-MODIFIED:20250305T124756Z
UID:14264-1741219200-1741564799@garagestylemagazine.com
SUMMARY:Amelia Island Concours d’Elegance
DESCRIPTION:With auctions and cruises\, guests and participants enjoy feasts aplenty\, fashion\, and much more at the Amelia Island Concours d’Elegance.  They’re even planning a movie night with guest commentators.  Special seminars will also be offered\, as well as a RADwood component for the youngtimer classics.
URL:https://garagestylemagazine.com/event/amelia-island-concours-delegance/
LOCATION:The Ritz-Carlton Amelia Island\, 4750 Amelia Island Pkwy\, Amelia Island\, FL\, 32034\, United States
CATEGORIES:Auction,Concours
ATTACH;FMTTYPE=image/png:https://garagestylemagazine.com/wp-content/uploads/2025/03/limage-33.png
END:VEVENT
BEGIN:VEVENT
DTSTART;VALUE=DATE:20250308
DTEND;VALUE=DATE:20250309
DTSTAMP:20260425T193614
CREATED:20250305T125103Z
LAST-MODIFIED:20250305T125103Z
UID:14272-1741392000-1741478399@garagestylemagazine.com
SUMMARY:The Mason Dixon Gas & Oil Show
DESCRIPTION:The 29th Annual event will be held at the Great Frederick Fair Grounds with indoor and outdoor vendors.  The event has expanded into two buildings.  Doors open at 7am Saturday.  A well known event in the gas and oil community\, it’s a great one to attend.
URL:https://garagestylemagazine.com/event/the-mason-dixon-gas-oil-show/
LOCATION:Great Frederick Fairgrounds\, 797 E. Patrick St.\, Frederick\, MD\, United States
CATEGORIES:Auction
ATTACH;FMTTYPE=image/jpeg:https://garagestylemagazine.com/wp-content/uploads/2025/03/mason-dixon.jpg
END:VEVENT
BEGIN:VEVENT
DTSTART;VALUE=DATE:20250320
DTEND;VALUE=DATE:20250322
DTSTAMP:20260425T193614
CREATED:20250305T133513Z
LAST-MODIFIED:20250305T133513Z
UID:14285-1742428800-1742601599@garagestylemagazine.com
SUMMARY:Richmond Advertising\, Featuring The Jay Barkheimer Collection
DESCRIPTION:With an astonishing array of advertising collectibles ranging from the food and beverage industry\, gas and oil industry\, gas pumps\, country store and farm advertising\, vehicle industry\, and much more\, this auction will see more than 1\,600 pieces cross the block.
URL:https://garagestylemagazine.com/event/richmond-advertising-featuring-the-jay-barkheimer-collection/
CATEGORIES:Auction
ATTACH;FMTTYPE=image/jpeg:https://garagestylemagazine.com/wp-content/uploads/2022/08/richmondauctions.jpg
END:VEVENT
BEGIN:VEVENT
DTSTART;VALUE=DATE:20250328
DTEND;VALUE=DATE:20250330
DTSTAMP:20260425T193614
CREATED:20250305T133704Z
LAST-MODIFIED:20250305T133704Z
UID:14287-1743120000-1743292799@garagestylemagazine.com
SUMMARY:Southwest Swap Meet
DESCRIPTION:Established in 1968\, the Southwest Swap Meet was renovated in 2022 and will feature two dates and locations for 2025.  The Grand Prairie event features 5\,000 spaces\, more than 150 cars and about 20\,000 attendees.  Awash with collectibles\, cars\, signs\, parts and an ocean of other attractions\, the Southwest Swap Meet is one to attend.
URL:https://garagestylemagazine.com/event/southwest-swap-meet/
LOCATION:Southwest Swap Meet\, 1000 Ballpark Way\, Lot F\, Arlington\, TX\, 76011\, United States
CATEGORIES:Auction,Swap Meet
ATTACH;FMTTYPE=image/webp:https://garagestylemagazine.com/wp-content/uploads/2025/03/southwest-swapmeet-logo-e1678826979668.webp
END:VEVENT
END:VCALENDAR