BEGIN:VCALENDAR
VERSION:2.0
PRODID:-//Garage Style Magazine - ECPv6.15.20//NONSGML v1.0//EN
CALSCALE:GREGORIAN
METHOD:PUBLISH
X-ORIGINAL-URL:https://garagestylemagazine.com
X-WR-CALDESC:Events for Garage Style Magazine
REFRESH-INTERVAL;VALUE=DURATION:PT1H
X-Robots-Tag:noindex
X-PUBLISHED-TTL:PT1H
BEGIN:VTIMEZONE
TZID:UTC
BEGIN:STANDARD
TZOFFSETFROM:+0000
TZOFFSETTO:+0000
TZNAME:UTC
DTSTART:20240101T000000
END:STANDARD
END:VTIMEZONE
BEGIN:VEVENT
DTSTART;VALUE=DATE:20250212
DTEND;VALUE=DATE:20250214
DTSTAMP:20260425T221911
CREATED:20250130T162526Z
LAST-MODIFIED:20250305T123101Z
UID:14223-1739318400-1739491199@garagestylemagazine.com
SUMMARY:Richmond Advertising\, Automobilia\, and Petroliana Auction
DESCRIPTION:TIME: Absentee bidding is open online. Live bidding starts at 10 AM Eastern on each day. \nPREVIEW: There is no preview for this auction. If you would like additional images of a specific lot\, please contact us. \nABSENTEE & PHONE BIDS: To place absentee bids or schedule a phone bid\, please contact Heather at (864) 991-5949 ext. 1. \nBidding: RichmondAuctions.com\, Richmond Auctions App\, LiveAuctioneers\, Proxibid \nMORE DETAILS AVAILABLE
URL:https://garagestylemagazine.com/event/richmond-advertising-automobilia-and-petroliana-auction/
CATEGORIES:Auction
ATTACH;FMTTYPE=image/jpeg:https://garagestylemagazine.com/wp-content/uploads/2022/08/richmondauctions.jpg
END:VEVENT
END:VCALENDAR