BEGIN:VCALENDAR
VERSION:2.0
PRODID:-//Garage Style Magazine - ECPv6.15.20//NONSGML v1.0//EN
CALSCALE:GREGORIAN
METHOD:PUBLISH
X-ORIGINAL-URL:https://garagestylemagazine.com
X-WR-CALDESC:Events for Garage Style Magazine
REFRESH-INTERVAL;VALUE=DURATION:PT1H
X-Robots-Tag:noindex
X-PUBLISHED-TTL:PT1H
BEGIN:VTIMEZONE
TZID:UTC
BEGIN:STANDARD
TZOFFSETFROM:+0000
TZOFFSETTO:+0000
TZNAME:UTC
DTSTART:20240101T000000
END:STANDARD
END:VTIMEZONE
BEGIN:VEVENT
DTSTART;VALUE=DATE:20250403
DTEND;VALUE=DATE:20250406
DTSTAMP:20260425T205851
CREATED:20250305T134036Z
LAST-MODIFIED:20250305T134049Z
UID:14292-1743638400-1743897599@garagestylemagazine.com
SUMMARY:MECUM Houston
DESCRIPTION:Always a fun event\, Mecum Auctions returns to Houston for a three-day event and roughly 1\,000 cars crossing the block.
URL:https://garagestylemagazine.com/event/mecum-houston-2/
LOCATION:NRG Center\, One NRG Park\, Houston\, TX\, 77054\, United States
CATEGORIES:Auction
ATTACH;FMTTYPE=image/png:https://garagestylemagazine.com/wp-content/uploads/2022/10/mecum.png
END:VEVENT
END:VCALENDAR