BEGIN:VCALENDAR
VERSION:2.0
PRODID:-//Garage Style Magazine - ECPv6.15.20//NONSGML v1.0//EN
CALSCALE:GREGORIAN
METHOD:PUBLISH
X-WR-CALNAME:Garage Style Magazine
X-ORIGINAL-URL:https://garagestylemagazine.com
X-WR-CALDESC:Events for Garage Style Magazine
REFRESH-INTERVAL;VALUE=DURATION:PT1H
X-Robots-Tag:noindex
X-PUBLISHED-TTL:PT1H
BEGIN:VTIMEZONE
TZID:UTC
BEGIN:STANDARD
TZOFFSETFROM:+0000
TZOFFSETTO:+0000
TZNAME:UTC
DTSTART:20240101T000000
END:STANDARD
END:VTIMEZONE
BEGIN:VEVENT
DTSTART;VALUE=DATE:20250421
DTEND;VALUE=DATE:20250505
DTSTAMP:20260425T193651
CREATED:20250305T135703Z
LAST-MODIFIED:20250305T135703Z
UID:14320-1745193600-1746403199@garagestylemagazine.com
SUMMARY:Broad Arrow Auctions: Memorabilia Online Auction
DESCRIPTION:Based in Germany\, this online sale will bring on offer a number of motorsports memorabilia including helmets used in Formula One by drivers such as Mika Hakkinen\, Jean Alesi\, and many more.
URL:https://garagestylemagazine.com/event/broad-arrow-auctions-memorabilia-online-auction/
CATEGORIES:Auction
ATTACH;FMTTYPE=image/jpeg:https://garagestylemagazine.com/wp-content/uploads/2023/08/baa-logo-green-stacked-copy.jpg
ORGANIZER;CN="Broad Arrow Auctions":MAILTO:info@broadarrowauctions.com
END:VEVENT
BEGIN:VEVENT
DTSTART;VALUE=DATE:20250423
DTEND;VALUE=DATE:20250429
DTSTAMP:20260425T193651
CREATED:20250305T135900Z
LAST-MODIFIED:20250609T232101Z
UID:14322-1745366400-1745884799@garagestylemagazine.com
SUMMARY:RM Sotheby's: The European and Middle East Sale
DESCRIPTION:An online-only sale\, this event will host roughly 100 cars from nearly all decades and range of budgets.
URL:https://garagestylemagazine.com/event/rm-sothebys-the-european-and-middle-east-sale/
CATEGORIES:Auction
ATTACH;FMTTYPE=image/jpeg:https://garagestylemagazine.com/wp-content/uploads/2025/03/OIP.jpg
END:VEVENT
BEGIN:VEVENT
DTSTART;VALUE=DATE:20250426
DTEND;VALUE=DATE:20250428
DTSTAMP:20260425T193651
CREATED:20250305T140229Z
LAST-MODIFIED:20250609T232035Z
UID:14327-1745625600-1745798399@garagestylemagazine.com
SUMMARY:Bonhams Spring Stafford Sale
DESCRIPTION:An astonishing motorcycle sale filled with nearly 100 motorcycles and the like\, all are rare\, but some are rarer than others\, some have never been seen before.
URL:https://garagestylemagazine.com/event/bonhams-spring-stafford-sale/
LOCATION:Staffordshire County Showgrounds\, Weston Road\, Stafford\, ST18 0BD\, United Kingdom
CATEGORIES:Auction
ATTACH;FMTTYPE=image/jpeg:https://garagestylemagazine.com/wp-content/uploads/2025/03/Bonhams-Cars-logo-678.jpg
END:VEVENT
END:VCALENDAR