BEGIN:VCALENDAR
VERSION:2.0
PRODID:-//Garage Style Magazine - ECPv6.15.20//NONSGML v1.0//EN
CALSCALE:GREGORIAN
METHOD:PUBLISH
X-WR-CALNAME:Garage Style Magazine
X-ORIGINAL-URL:https://garagestylemagazine.com
X-WR-CALDESC:Events for Garage Style Magazine
REFRESH-INTERVAL;VALUE=DURATION:PT1H
X-Robots-Tag:noindex
X-PUBLISHED-TTL:PT1H
BEGIN:VTIMEZONE
TZID:UTC
BEGIN:STANDARD
TZOFFSETFROM:+0000
TZOFFSETTO:+0000
TZNAME:UTC
DTSTART:20240101T000000
END:STANDARD
END:VTIMEZONE
BEGIN:VEVENT
DTSTART;VALUE=DATE:20250709
DTEND;VALUE=DATE:20250710
DTSTAMP:20260426T001428
CREATED:20250305T144001Z
LAST-MODIFIED:20250305T144001Z
UID:14399-1752019200-1752105599@garagestylemagazine.com
SUMMARY:RM Sotheby's: Cliveden House Hotel
DESCRIPTION:A second event for RM Sotheby’s at this historic country house hotel\, a number of very unique British cars have already been consigned\, and more are expected.
URL:https://garagestylemagazine.com/event/rm-sothebys-cliveden-house-hotel/
LOCATION:Cliveden House Hotel\, Taplow\, Berkshire\, United Kingdom
CATEGORIES:Auction
ATTACH;FMTTYPE=image/jpeg:https://garagestylemagazine.com/wp-content/uploads/2025/03/OIP.jpg
END:VEVENT
BEGIN:VEVENT
DTSTART;VALUE=DATE:20250709
DTEND;VALUE=DATE:20250713
DTSTAMP:20260426T001428
CREATED:20250305T143621Z
LAST-MODIFIED:20250305T143621Z
UID:14393-1752019200-1752364799@garagestylemagazine.com
SUMMARY:MECUM Kissimmee Summer Special
DESCRIPTION:A four-day event\, the Florida Summer Special should be fantastic\, with 1\,500 cars consigned and the fabulous weather of Florida.
URL:https://garagestylemagazine.com/event/mecum-kissimmee-summer-special/
LOCATION:Osceola Heritage Park\, 1875 Silver Spur Ln\, Kissimmee\, FL\, 34744\, United States
CATEGORIES:Auction
ATTACH;FMTTYPE=image/png:https://garagestylemagazine.com/wp-content/uploads/2022/10/mecum.png
END:VEVENT
BEGIN:VEVENT
DTSTART;VALUE=DATE:20250716
DTEND;VALUE=DATE:20250718
DTSTAMP:20260426T001428
CREATED:20250609T230814Z
LAST-MODIFIED:20250716T100556Z
UID:15179-1752624000-1752796799@garagestylemagazine.com
SUMMARY:Morphy Auction - Automobilia\, Petroliana\, & Railroadiana
DESCRIPTION:Speaking of Needful Things… Morphy Auctions is hosting another sale of spectacular signs July 16-17\, but bidding online is currently ongoing. Register as New User!  Known as the Automobilia\, Petroliana\, and Railroadiana sale\, a huge number of unique signs from the food and beverage\, automotive\, gas and oil\, and entertainment industries are on offer.  Check out their extensive  Catalog – July 16 & 17\, 2025 Automobilia\, Petroliana\, & Railroadiana.
URL:https://garagestylemagazine.com/event/morphy-auction-automobilia-petroliana-railroadiana/
LOCATION:Berkshire
CATEGORIES:Auction
ATTACH;FMTTYPE=image/jpeg:https://garagestylemagazine.com/wp-content/uploads/2025/07/unnamed-3.jpg
ORGANIZER;CN="Morphy's Auctions":MAILTO:nfo@morphyauctions.com
END:VEVENT
BEGIN:VEVENT
DTSTART;VALUE=DATE:20250723
DTEND;VALUE=DATE:20250727
DTSTAMP:20260426T001428
CREATED:20250305T144519Z
LAST-MODIFIED:20250716T100717Z
UID:14411-1753228800-1753574399@garagestylemagazine.com
SUMMARY:MECUM Harrisburg
DESCRIPTION:A four-day event\, the Harrisburg sale is a Mecum tradition with a number of wonderful\, varied lots.  Expect around 1\,200 vehicles on offer. More details here.
URL:https://garagestylemagazine.com/event/mecum-harrisburg-2/
LOCATION:Farm Show Complex\, 2300 N Cameron St\, Harrisburg\, PA\, 17110\, United States
CATEGORIES:Auction
ATTACH;FMTTYPE=image/jpeg:https://garagestylemagazine.com/wp-content/uploads/2025/06/16132_701x397.43451725385909.jpg
END:VEVENT
BEGIN:VEVENT
DTSTART;VALUE=DATE:20250805
DTEND;VALUE=DATE:20250811
DTSTAMP:20260426T001428
CREATED:20250305T145126Z
LAST-MODIFIED:20250609T232004Z
UID:14416-1754352000-1754870399@garagestylemagazine.com
SUMMARY:MAG Auctions
DESCRIPTION:Held during Reno’s Hot August Nights event\, the MAG Auction brings a multitude of special interest vehicles and memorabilia to cross the block.
URL:https://garagestylemagazine.com/event/mag-auctions-2/
LOCATION:MAG Auctions – Hot August Nights\, 4590 South Virginia St.\, Reno\, NV\, 89502\, United States
CATEGORIES:Auction
ATTACH;FMTTYPE=image/png:https://garagestylemagazine.com/wp-content/uploads/2025/03/logo-web-top.png
END:VEVENT
BEGIN:VEVENT
DTSTART;VALUE=DATE:20250814
DTEND;VALUE=DATE:20250817
DTSTAMP:20260426T001428
CREATED:20250305T150524Z
LAST-MODIFIED:20250609T231717Z
UID:14435-1755129600-1755388799@garagestylemagazine.com
SUMMARY:MECUM Monterey
DESCRIPTION:A signature fixture during Monterey Car Week\, the Mecum Auction sale at the Del Monte Golf Course features around 600 vehicles.  Known as “The Daytime Auction\,” it allows visitors to enjoy the cars and sights during the daylight hours on a great golf course rather than waiting for the evening.
URL:https://garagestylemagazine.com/event/mecum-monterey-2/
LOCATION:Hyatt Regency Monterey Hotel and Spa\, Monterey\, CA\, United States
CATEGORIES:Auction
ATTACH;FMTTYPE=image/jpeg:https://garagestylemagazine.com/wp-content/uploads/2023/08/IMG_4231.jpg
END:VEVENT
BEGIN:VEVENT
DTSTART;VALUE=DATE:20250814
DTEND;VALUE=DATE:20250817
DTSTAMP:20260426T001428
CREATED:20250305T151126Z
LAST-MODIFIED:20250609T231711Z
UID:14447-1755129600-1755388799@garagestylemagazine.com
SUMMARY:Pebble Beach RetroAuto
DESCRIPTION:Located within the Concours Village\, RetroAuto is Mecca for automobilia enthusiast.  With ranges from new and vintage neon\, gas and oil collectibles\, clothing\, posters\, signs\, and much\, much more\, the indoor event is remarkable to say the least.
URL:https://garagestylemagazine.com/event/pebble-beach-retroauto-2/
LOCATION:Pebble Beach\, Pebble Beach\, CA\, United States
CATEGORIES:Auction,Swap Meet
ATTACH;FMTTYPE=image/png:https://garagestylemagazine.com/wp-content/uploads/2023/08/pebblelogo.png
END:VEVENT
BEGIN:VEVENT
DTSTART;VALUE=DATE:20250815
DTEND;VALUE=DATE:20250816
DTSTAMP:20260426T001428
CREATED:20250305T151001Z
LAST-MODIFIED:20250609T231706Z
UID:14444-1755216000-1755302399@garagestylemagazine.com
SUMMARY:Bonhams Quail
DESCRIPTION:The 28th Annual Quail Lodge Auction returns to the Lodge & Golf Club and promises an exceptional lineup of stunning vehicles and memorabilia for sale.
URL:https://garagestylemagazine.com/event/bonhams-quail/
LOCATION:Bonhams Quail Lodge & Golf Club\, 27050 Rancho San Carlos Rd\, Carmel\, CA\, 93923\, United States
CATEGORIES:Auction
ATTACH;FMTTYPE=image/jpeg:https://garagestylemagazine.com/wp-content/uploads/2025/03/Bonhams-Cars-logo-678.jpg
END:VEVENT
BEGIN:VEVENT
DTSTART;VALUE=DATE:20250815
DTEND;VALUE=DATE:20250817
DTSTAMP:20260426T001428
CREATED:20250305T150643Z
LAST-MODIFIED:20250609T231700Z
UID:14438-1755216000-1755388799@garagestylemagazine.com
SUMMARY:RM Sotheby's: Monterey
DESCRIPTION:One of the most enjoyable auctions along the Monterey Peninsula during Car Week\, the RM Sotheby’s sale at the Portola Plaza Hotel brings together a varied assemblage of vehicles from all genres.
URL:https://garagestylemagazine.com/event/rm-sothebys-monterey/
LOCATION:RM Sotheby’s Monterey\, 1 Portola Plaza\, Monterey\, CA\, 93940\, United States
CATEGORIES:Auction
ATTACH;FMTTYPE=image/jpeg:https://garagestylemagazine.com/wp-content/uploads/2025/03/OIP.jpg
END:VEVENT
BEGIN:VEVENT
DTSTART;VALUE=DATE:20251029
DTEND;VALUE=DATE:20251102
DTSTAMP:20260426T001428
CREATED:20250305T152200Z
LAST-MODIFIED:20250305T152214Z
UID:14464-1761696000-1762041599@garagestylemagazine.com
SUMMARY:MECUM Ft. Worth
DESCRIPTION:A four-day event with 1\,500 vehicles consigned\, there will be something for everyone.  Held in Fort Worth\, there are plenty of distractions such as shopping\, dining\, and even The Stockyards where the cowboys walk the Texas Longhorn Steer up and down Main Street as they have for over 100 years.
URL:https://garagestylemagazine.com/event/mecum-ft-worth/
LOCATION:Dickies Arena\, Fort Worth\, TX\, United States
CATEGORIES:Auction
ATTACH;FMTTYPE=image/png:https://garagestylemagazine.com/wp-content/uploads/2022/10/mecum.png
END:VEVENT
BEGIN:VEVENT
DTSTART;VALUE=DATE:20251113
DTEND;VALUE=DATE:20251116
DTSTAMP:20260426T001428
CREATED:20250305T152506Z
LAST-MODIFIED:20251210T160535Z
UID:14472-1762992000-1763251199@garagestylemagazine.com
SUMMARY:MECUM Las Vegas
DESCRIPTION:With roughly 1\,000 vehicles slated to cross the block\, the Mecum Las Vegas Auction is always a fun event.  A variety of cars\, trucks\, motorcycles\, and much more\, when the event is over there is nothing but distractions for everyone\, thanks to being Las Vegas.
URL:https://garagestylemagazine.com/event/mecum-las-vegas-3/
LOCATION:Las Vegas Convention Center\, Central Hall\, 3150 Paradise Road\, Las Vegas\, NV\, 89109\, United States
CATEGORIES:Auction
ATTACH;FMTTYPE=image/png:https://garagestylemagazine.com/wp-content/uploads/2022/10/mecum.png
END:VEVENT
BEGIN:VEVENT
DTSTART;VALUE=DATE:20251204
DTEND;VALUE=DATE:20251207
DTSTAMP:20260426T001428
CREATED:20250305T152638Z
LAST-MODIFIED:20251210T160542Z
UID:14474-1764806400-1765065599@garagestylemagazine.com
SUMMARY:MECUM Kansas City
DESCRIPTION:A thee-day event with 700 vehicles on offer\, the KC event is always a great one.  Lots of variety and a fabulous city to enjoy dining\, shopping\, or just relaxing.
URL:https://garagestylemagazine.com/event/mecum-kansas-city/
LOCATION:Las Vegas Convention Center\, Central Hall\, 3150 Paradise Road\, Las Vegas\, NV\, 89109\, United States
CATEGORIES:Auction
ATTACH;FMTTYPE=image/png:https://garagestylemagazine.com/wp-content/uploads/2022/10/mecum.png
END:VEVENT
BEGIN:VEVENT
DTSTART;VALUE=DATE:20260106
DTEND;VALUE=DATE:20260119
DTSTAMP:20260426T001428
CREATED:20260105T203836Z
LAST-MODIFIED:20260105T203836Z
UID:16399-1767657600-1768780799@garagestylemagazine.com
SUMMARY:MECUM Kissimmee 2026
DESCRIPTION:The World’s Largest Collector Car Auction in Kissimmee 2026 is underway and it’s not too late to get into the action\, register to bid today. While Mecum has over 4\,500 cars crossing the block\, there is also a huge array of automobilia and petroliana on offer.  There are also some absolutely gobsmacking paper promotional items such as cardboard advertisements for soda companies\, including one for Nesbitt’s Orange Sweepstakes in which they were giving away an orange Ford Maverick.  While not as exciting as neon or porcelain\, paper products seem to be proving to be the next big thing in collectibles as their prices steadily climb\, and why not?  Talk about surviving – made of paper\, a throwaway product meant to promote something on a counter\, how many are actually left?  And so often\, they promoted the most unique things – like orange Ford Mavericks.  See Mecum’s Road Art here! \n \nAnd there’s always Mecum On Time.  Mecum will be taking some of items from On Time to Kissimmee\, but bidding is still available online.  Well worth looking into\, there are often some great bargains and some remarkably hard to find items on offer.  See them here On Time
URL:https://garagestylemagazine.com/event/mecum-kissimmee-2026/
LOCATION:Osceola Heritage Park\, 1875 Silver Spur Ln\, Kissimmee\, FL\, 34744\, United States
CATEGORIES:Auction
ATTACH;FMTTYPE=image/png:https://garagestylemagazine.com/wp-content/uploads/2026/01/FL26-1-1.png
END:VEVENT
BEGIN:VEVENT
DTSTART;VALUE=DATE:20260320
DTEND;VALUE=DATE:20260322
DTSTAMP:20260426T001428
CREATED:20260305T104155Z
LAST-MODIFIED:20260305T105757Z
UID:16671-1773964800-1774137599@garagestylemagazine.com
SUMMARY:Stunning Items on Offer March 20 & 21
DESCRIPTION:Buyers can expect to be overwhelmed by an extensive variety of collectibles ranging from neon\, porcelain\, cardboard\, and tin advertising products to clocks\, thermometers\, gas pumps\, and gas globes.  Other highlights include country store display cases\, rotating hardware cabinets\, multiple barber shop poles\, light-up signs\, pedal cars\, a jukebox\, coin-op machines\, and a rare Babe Ruth Goodyear signed baseball.  Live bidding starts at 10am EST on Friday\, March 20th at Rockabilly Auction Company in Hartwell\, Georgia and will run through Saturday\, March 21st\, but by all means\, get a jump by bidding online.  See the items in detail and register to bid here. \n \nThat said\, one of our very favorite items is Lot 808\, a Single Sided Porcelain 1950 Pepsi Cola sign.  Featuring exquisite colors and a high-gloss finish\, it absolutely ‘pops’ anywhere it’s seen.  Bid on it here.
URL:https://garagestylemagazine.com/event/stunning-items-on-offer-march-20-21/
LOCATION:Berkshire
CATEGORIES:Auction
ATTACH;FMTTYPE=image/png:https://garagestylemagazine.com/wp-content/uploads/2026/03/rockabilly-logo-194x146-1.png
ORGANIZER;CN="Rockabilly Auctions":MAILTO:RockabillyAuction@gmail.com
END:VEVENT
END:VCALENDAR