BEGIN:VCALENDAR
VERSION:2.0
PRODID:-//Garage Style Magazine - ECPv6.15.20//NONSGML v1.0//EN
CALSCALE:GREGORIAN
METHOD:PUBLISH
X-ORIGINAL-URL:https://garagestylemagazine.com
X-WR-CALDESC:Events for Garage Style Magazine
REFRESH-INTERVAL;VALUE=DURATION:PT1H
X-Robots-Tag:noindex
X-PUBLISHED-TTL:PT1H
BEGIN:VTIMEZONE
TZID:UTC
BEGIN:STANDARD
TZOFFSETFROM:+0000
TZOFFSETTO:+0000
TZNAME:UTC
DTSTART:20250101T000000
END:STANDARD
END:VTIMEZONE
BEGIN:VTIMEZONE
TZID:UTC
BEGIN:STANDARD
TZOFFSETFROM:+0000
TZOFFSETTO:+0000
TZNAME:UTC
DTSTART:20250101T000000
END:STANDARD
END:VTIMEZONE
BEGIN:VEVENT
DTSTART;TZID=UTC:20260424T000000
DTEND;TZID=UTC:20260426T235959
DTSTAMP:20260423T134811
CREATED:20260415T015017Z
LAST-MODIFIED:20260423T075026Z
UID:17009-1776988800-1777247999@garagestylemagazine.com
SUMMARY:La Jolla Concours d’Elegance
DESCRIPTION:
URL:https://garagestylemagazine.com/event/la-jolla-concours-delegance-2/
LOCATION:ELLEN BROWNING SCRIPPS PARK\, 1133 Coast Blvd\, La Jolla\, CA\, 92037\, United States
CATEGORIES:Concours
ATTACH;FMTTYPE=image/webp:https://garagestylemagazine.com/wp-content/uploads/2026/04/LJCDE-Logo-Bios.webp
END:VEVENT
BEGIN:VEVENT
DTSTART;TZID=UTC:20260424T130000
DTEND;TZID=UTC:20260424T200000
DTSTAMP:20260423T134811
CREATED:20260414T182039Z
LAST-MODIFIED:20260423T075027Z
UID:16992-1777035600-1777060800@garagestylemagazine.com
SUMMARY:Markets at Shrewsbury Cruise-In
DESCRIPTION:$2 entry on 4th Friday of the Month April thru October.  One of the largest cruises in the Mid-Atlantic area!
URL:https://garagestylemagazine.com/event/markets-at-shrewsbury-cruise-in/
LOCATION:Markets at Shrewsbury\, 12025 Susquehanna Trail\, Shrewsbury\, PA\, 17327\, United States
CATEGORIES:Cruise
ATTACH;FMTTYPE=image/jpeg:https://garagestylemagazine.com/wp-content/uploads/2026/04/noevent.jpg
END:VEVENT
BEGIN:VEVENT
DTSTART;TZID=UTC:20260425T000000
DTEND;TZID=UTC:20260426T235959
DTSTAMP:20260423T134811
CREATED:20260415T015019Z
LAST-MODIFIED:20260423T075026Z
UID:17012-1777075200-1777247999@garagestylemagazine.com
SUMMARY:Keels & Wheels Concours d’Elegance
DESCRIPTION:
URL:https://garagestylemagazine.com/event/keels-wheels-concours-delegance/
LOCATION:Lakewood Yacht Club\, Seabrook\, TX\, United States
CATEGORIES:Concours
ATTACH;FMTTYPE=image/webp:https://garagestylemagazine.com/wp-content/uploads/2026/04/KW-2011-logo_blue-gray_600x1200.webp
END:VEVENT
BEGIN:VEVENT
DTSTART;TZID=UTC:20260427T183000
DTEND;TZID=UTC:20260427T200000
DTSTAMP:20260423T134811
CREATED:20260422T211542Z
LAST-MODIFIED:20260423T075032Z
UID:17209-1777314600-1777320000@garagestylemagazine.com
SUMMARY:Blind Logic Screening: Celebrate an Inspirational Story
DESCRIPTION:It is our pleasure to invite you\, family\, & friends\, and colleagues to our special screening in Rochester of our award-winning documentary\, “Blind Logic: The Ralph R. Teetor Story.”  This inspirational film celebrates the triumph of the human spirit through automotive history. \nThis remarkable documentary chronicles the inspirational life of Ralph Teetor\, a blind American visionary and automotive pioneer who overcame unthinkable odds to leave a lasting impact on the automotive industry. As Ralph famously stated in 1945\, “I am not handicapped because I never considered myself so.” \nEmmy Award winners Jeff Daniels & Mike Rowe bring his story to life. The film features renowned trailblazers in the automotive world. The 90-minute film will be followed by a Q & A with the filmmaker. \nDon’t miss this one night only screening:  It’s free!  \nSee how a blind Ralph Teetor invented CRUISE CONTROL! \nRochester Hills Public Library: \nMonday\, April 27th\, 6:30pm\, Multipurpose Room. \nRegister for the film: https://events.getlocalhop.com/blind-logic-the-ralph-r-teetor-story-documentary-screening/event/CiKRukrLnm/ \nWe hope to see you there!
URL:https://garagestylemagazine.com/event/blind-logic-screening-celebrate-an-inspirational-story/
LOCATION:Rochester Hills Public Library\, 500 Olde Towne Rd\, Rochester Hills\, MI\, 48307\, United States
CATEGORIES:Social
ATTACH;FMTTYPE=image/webp:https://garagestylemagazine.com/wp-content/uploads/2026/04/Intl.Poster-2-b.webp
END:VEVENT
BEGIN:VEVENT
DTSTART;TZID=UTC:20260501T000000
DTEND;TZID=UTC:20260503T235959
DTSTAMP:20260423T134811
CREATED:20260415T015056Z
LAST-MODIFIED:20260423T075026Z
UID:17015-1777593600-1777852799@garagestylemagazine.com
SUMMARY:The Greenbrier Concours d’Elegance
DESCRIPTION:
URL:https://garagestylemagazine.com/event/the-greenbrier-concours-delegance/
LOCATION:The Greenbrier\, White Sulphur Springs\, WV\, United States
CATEGORIES:Concours
ATTACH;FMTTYPE=image/png:https://garagestylemagazine.com/wp-content/uploads/2026/04/concours-sponsor-logo-key-v3-textured.png
END:VEVENT
BEGIN:VEVENT
DTSTART;TZID=UTC:20260501T000000
DTEND;TZID=UTC:20260503T235959
DTSTAMP:20260423T134811
CREATED:20260415T015059Z
LAST-MODIFIED:20260423T075026Z
UID:17018-1777593600-1777852799@garagestylemagazine.com
SUMMARY:The Atlanta Motoring Festival & Concours d’Elegance
DESCRIPTION:
URL:https://garagestylemagazine.com/event/the-atlanta-motoring-festival-concours-delegance/
LOCATION:Lanier Islands Resort\, Buford\, GA\, United States
CATEGORIES:Concours
ATTACH;FMTTYPE=image/png:https://garagestylemagazine.com/wp-content/uploads/2026/04/logo_light.png
END:VEVENT
BEGIN:VEVENT
DTSTART;TZID=UTC:20260502T103000
DTEND;TZID=UTC:20260502T140000
DTSTAMP:20260423T134811
CREATED:20260415T151959Z
LAST-MODIFIED:20260415T151959Z
UID:17085-1777717800-1777730400@garagestylemagazine.com
SUMMARY:Virginia Brunch at Firebirds Grill in Gainesville
DESCRIPTION:PCA POTOMAC DRIVE & DINE MONTHLY BRUNCHES: All PCA members are welcome\, this is a great icebreaker opportunity for new members. Plan on arriving a few minutes early to allow time to look at the cars and meet other Porsche enthusiasts.  Registration is not required for these events. \n\nNEW TIME: Virginia Brunch at Firebirds Grill in Gainesville (Sat.\, May 2nd at 10:30 AM)  Join us at Firebirds Wood-Fired Grille\, located at 14020 Promenade Commons St\, Gainesville\, VA 20155. Firebirds offers indoor seating and a comprehensive menu with brunch selections. Porsche parking is located behind the restaurant.\nBrunch: The Irish Inn in Glen Echo\, MD (Sat.\, Apr 18th at 11AM)\n\nThe Irish Inn in Glen Echo has been the long-time site of our Saturday brunches. Come enjoy brunch and conversation in a reserved room or outside\, weather permitting. The Irish Inn is located at 6119 Tulane Avenue\, Glen Echo MD 20812
URL:https://garagestylemagazine.com/event/virginia-brunch-at-firebirds-grill-in-gainesville/
LOCATION:Firebirds Wood Fired Grill\, 14020 Promenade Commons St\, Gainesville\, VA\, 20155\, United States
CATEGORIES:Meet Up
ATTACH;FMTTYPE=image/jpeg:https://garagestylemagazine.com/wp-content/uploads/2024/08/unnamed-2-4.jpg
END:VEVENT
BEGIN:VEVENT
DTSTART;TZID=UTC:20260517T000000
DTEND;TZID=UTC:20260517T235959
DTSTAMP:20260423T134811
CREATED:20260415T015101Z
LAST-MODIFIED:20260423T075026Z
UID:17021-1778976000-1779062399@garagestylemagazine.com
SUMMARY:The Old Town Festival of Speed & Style
DESCRIPTION:
URL:https://garagestylemagazine.com/event/the-old-town-festival-of-speed-style/
LOCATION:Old Town\, Alexandria\, VA\, United States
CATEGORIES:Concours
ATTACH;FMTTYPE=image/webp:https://garagestylemagazine.com/wp-content/uploads/2026/04/OIP-1.webp
END:VEVENT
BEGIN:VEVENT
DTSTART;TZID=UTC:20260522T000000
DTEND;TZID=UTC:20260524T235959
DTSTAMP:20260423T134811
CREATED:20260415T015103Z
LAST-MODIFIED:20260423T075026Z
UID:17024-1779408000-1779667199@garagestylemagazine.com
SUMMARY:Sandhills Motoring Expo
DESCRIPTION:
URL:https://garagestylemagazine.com/event/sandhills-motoring-expo-2/
LOCATION:Village of Pinehurst\, NC\, United States
CATEGORIES:Concours
ATTACH;FMTTYPE=image/png:https://garagestylemagazine.com/wp-content/uploads/2026/04/SME-Logo-2024-small.png
END:VEVENT
BEGIN:VEVENT
DTSTART;VALUE=DATE:20260524
DTEND;VALUE=DATE:20260525
DTSTAMP:20260423T134811
CREATED:20260322T112532Z
LAST-MODIFIED:20260322T112827Z
UID:16775-1779580800-1779667199@garagestylemagazine.com
SUMMARY:DRIVE & DINE to The Black Sheep
DESCRIPTION:After a scenic drive of twists and turns through Fairfax and Prince William Counties\, enjoy brunch at The Black Sheep Restaurant in Manassas\, VA. This two-story historic dairy barn built in 1929 has been converted into a restaurant with private dining rooms\, entertainment spaces\, and outdoor patio areas. \nAfter brunch and a short stroll\, listen to some live music at Farm Brew Live – The Yard Stage outdoor music venue. There you can relax while enjoying a craft beer\, wine\, or cocktails from 2 Silos Brewery. Where craft beer + live music = A rockin’ good time. This event is nearing capacity\, Register Soon.
URL:https://garagestylemagazine.com/event/drive-dine-to-the-black-sheep/
LOCATION:The Black Sheep at 2 Silos\, Manassas\, VA\, United States
CATEGORIES:Cruise
ATTACH;FMTTYPE=image/png:https://garagestylemagazine.com/wp-content/uploads/2026/03/black-sheep-logo-text-box.png
END:VEVENT
BEGIN:VEVENT
DTSTART;TZID=UTC:20260529T000000
DTEND;TZID=UTC:20260531T235959
DTSTAMP:20260423T134811
CREATED:20260415T015106Z
LAST-MODIFIED:20260423T075026Z
UID:17027-1780012800-1780271999@garagestylemagazine.com
SUMMARY:Greenwich Concours d’Elegance
DESCRIPTION:
URL:https://garagestylemagazine.com/event/greenwich-concours-delegance-2/
LOCATION:Roger Sherman Baldwin Park\, 100 Arch St\, Greenwich\, CT\, 06830\, United States
CATEGORIES:Concours
ATTACH;FMTTYPE=image/avif:https://garagestylemagazine.com/wp-content/uploads/2026/04/greenwich_concours_brand_logo_4x.avif
END:VEVENT
BEGIN:VEVENT
DTSTART;TZID=UTC:20260606T000000
DTEND;TZID=UTC:20260607T235959
DTSTAMP:20260423T134811
CREATED:20260415T015109Z
LAST-MODIFIED:20260423T075026Z
UID:17031-1780704000-1780876799@garagestylemagazine.com
SUMMARY:Philadelphia Concours d’Elegance
DESCRIPTION:
URL:https://garagestylemagazine.com/event/philadelphia-concours-delegance/
LOCATION:The Union League Liberty Hill\, Lafayette Hill\, PA\, United States
CATEGORIES:Concours
ATTACH;FMTTYPE=image/jpeg:https://garagestylemagazine.com/wp-content/uploads/2026/04/Philadelphia-Concours.jpg
END:VEVENT
BEGIN:VEVENT
DTSTART;TZID=UTC:20260610T000000
DTEND;TZID=UTC:20260614T235959
DTSTAMP:20260423T134811
CREATED:20260415T195036Z
LAST-MODIFIED:20260423T075032Z
UID:17092-1781049600-1781481599@garagestylemagazine.com
SUMMARY:Porsche Parade 2026
DESCRIPTION:PCA Potomac – Phase 2 Registration for Porsche Parade Opens Wednesday\, April 15 at noon ET; Member Badges Order Window Opens (April 15 – May 15) \n\nIf you haven’t already registered for Porsche Parade\, PCA’s biggest event of the year\, don’t wait! Phase 1 Registration (Entry and Housing) will reopen with Phase 2 Registration (Events\, Tours\, and Banquets) on Wednesday\, April 15\, at noon ET! Tickets to events and tours sell out SUPER quickly. Make sure you register early and have information on hand\, such as meal selections\, tshirt sizes for volunteers\, competitive event selection for each participant\, birthdates of children attending\, PCA membership number of co-entrants\, your Porsche license plate and brand of tires\, and trailer details\, as applicable. \n\nPorsche Parade is PCA’s biggest event of the year! While attending the 2026 Porsche Parade\, you and your family will be able to experience all that Lake Placid and the Adirondack Mountains have to offer. Let’s head north to represent Potomac in style! \nWhen: June 14–20\, 2026 \nWhere: Lake Placid\, NY \nRegistration Opens: January 28 at 12 noon ET \nThe “hub” of the 2026 Porsche Parade will be the Lake Placid Olympic Center. The Center will host Banquets\, Parade Platz\, Concours d’Elegance\, Concours Prep\, Vendor Village\, Car Wash\, Tech Tactics\, PCA Juniors @ Parade\, Art Show\, RC cars\, and more. Don’t miss competitive events like Autocross\, TSD Rally\, Gimmick Rally\, Golf Tournament\, 5K\, SIM Racing\, and much more! \nThe Entrant Fee for the 2026 Porsche Parade is $300\, which includes one primary entrant and one co-entrant.
URL:https://garagestylemagazine.com/event/porsche-parade-2026/
LOCATION:Lake Placid Olympic Center\, 2634 Main St\, Lake Placid\, NY\, 12946\, United States
CATEGORIES:AutoCross,Banquet,Convention,Meeting,Road Rally,Social
ATTACH;FMTTYPE=image/png:https://garagestylemagazine.com/wp-content/uploads/2026/04/unnamed.png
END:VEVENT
BEGIN:VEVENT
DTSTART;TZID=UTC:20260611T000000
DTEND;TZID=UTC:20260614T235959
DTSTAMP:20260423T134811
CREATED:20260415T015110Z
LAST-MODIFIED:20260423T075026Z
UID:17034-1781136000-1781481599@garagestylemagazine.com
SUMMARY:Highlands Motoring Festival
DESCRIPTION:
URL:https://garagestylemagazine.com/event/highlands-motoring-festival/
LOCATION:Kelsey-Hutchinson Founders Park\, Highlands\, NC\, United States
CATEGORIES:Concours
ATTACH;FMTTYPE=image/webp:https://garagestylemagazine.com/wp-content/uploads/2026/04/HMF-NEW-LOGO-With-Reg-No-LAYERS_-002.webp
END:VEVENT
BEGIN:VEVENT
DTSTART;VALUE=DATE:20260612
DTEND;VALUE=DATE:20260616
DTSTAMP:20260423T134811
CREATED:20260322T112713Z
LAST-MODIFIED:20260322T112820Z
UID:16779-1781222400-1781567999@garagestylemagazine.com
SUMMARY:Wild Wunderbar Tour to Stonewall Resort in Roanoke\, WV
DESCRIPTION:Ready for a Summer Getaway?  We are excited to offer this 3-night Tour (2-night minimum)\, June 12-15\, 2026\, to the beautiful Stonewall Resort State Park located in Roanoke\, WV.  Join us for epic road trips through the scenic mountains of WV and unwind at a secluded lakeside retreat that offers a wide variety of indoor and outdoor recreational activities.  This event is nearing capacity\, Register Soon.
URL:https://garagestylemagazine.com/event/wild-wunderbar-tour-to-stonewall-resort-in-roanoke-wv/
LOCATION:Stonewall Resort\, 940 Resort Dr\, Roanoke\, WV\, 26447\, United States
CATEGORIES:Cruise
ATTACH;FMTTYPE=image/png:https://garagestylemagazine.com/wp-content/uploads/2026/03/unnamed-1.png
END:VEVENT
BEGIN:VEVENT
DTSTART;TZID=UTC:20260613T000000
DTEND;TZID=UTC:20260614T235959
DTSTAMP:20260423T134811
CREATED:20260415T015114Z
LAST-MODIFIED:20260423T075026Z
UID:17037-1781308800-1781481599@garagestylemagazine.com
SUMMARY:San Marino Motor Classic
DESCRIPTION:
URL:https://garagestylemagazine.com/event/san-marino-motor-classic/
LOCATION:Lacy Park\, San Marino\, CA\, United States
CATEGORIES:Concours
ATTACH;FMTTYPE=image/png:https://garagestylemagazine.com/wp-content/uploads/2026/04/images.png
END:VEVENT
BEGIN:VEVENT
DTSTART;TZID=UTC:20260614T000000
DTEND;TZID=UTC:20260614T235959
DTSTAMP:20260423T134811
CREATED:20260415T015115Z
LAST-MODIFIED:20260423T075026Z
UID:17040-1781395200-1781481599@garagestylemagazine.com
SUMMARY:Cincinnati Concours d’Elegance
DESCRIPTION:
URL:https://garagestylemagazine.com/event/cincinnati-concours-delegance-2/
LOCATION:Ault Park\, 3600 Observatory Ave.\, Cincinnati\, OH\, 45208\, United States
CATEGORIES:Concours
ATTACH;FMTTYPE=image/jpeg:https://garagestylemagazine.com/wp-content/uploads/2026/04/images2.jpg
END:VEVENT
BEGIN:VEVENT
DTSTART;TZID=UTC:20260621T000000
DTEND;TZID=UTC:20260621T235959
DTSTAMP:20260423T134811
CREATED:20260415T015116Z
LAST-MODIFIED:20260423T075026Z
UID:17043-1782000000-1782086399@garagestylemagazine.com
SUMMARY:Rodeo Drive Concours d’Elegance
DESCRIPTION:
URL:https://garagestylemagazine.com/event/rodeo-drive-concours-delegance/
LOCATION:Rodeo Drive\, Beverly Hills\, CA\, United States
CATEGORIES:Concours
ATTACH;FMTTYPE=image/png:https://garagestylemagazine.com/wp-content/uploads/2026/04/Rodeo-Drive-Car-Show.png
END:VEVENT
BEGIN:VEVENT
DTSTART;TZID=UTC:20260621T100000
DTEND;TZID=UTC:20260621T150000
DTSTAMP:20260423T134811
CREATED:20260414T182041Z
LAST-MODIFIED:20260423T075027Z
UID:16995-1782036000-1782054000@garagestylemagazine.com
SUMMARY:Sully Antique Car Show
DESCRIPTION:The George Washington Chapter\, Inc. Model A Ford Club and the Fairfax County Park Authority will jointly sponsor the 51st Sully Antique Car Show on Father’s Day\, June 21\, 2026 at the Sully Historic Site\, 3650 Historic Sully Way\, Chantilly\, VA.\nModel A Ford Hot Rods; hundreds of old cars 25-years & older; Special Displays; Food Vendors; Century Cars Display; Music; and historic grounds information session included with admission.  Best in Show\, Sully Staff\, and 1st\, 2nd\, & 3rd place trophies per class awarded.\n \nSHOW CARS MUST PRE-REGISTER BY JUNE 17!\nSee GWCModelA.com mid-April for registration information.\nThe George Washington Chapter\, Inc. Model A Ford Club and the Fairfax County Park Authority will jointly sponsor the 51sth Sully Antique Car Show on Father’s Day\, June 15\, 2025 at the Sully Historic Site\, 3650 Historic Sully Way\, Chantilly\, VA.
URL:https://garagestylemagazine.com/event/sully-antique-car-show/
LOCATION:Sully Historic Site\, 3650 Historic Sully Way\, Chantilly\, VA\, 20151\, United States
CATEGORIES:Shows
ATTACH;FMTTYPE=image/jpeg:https://garagestylemagazine.com/wp-content/uploads/2026/04/Sully-Show.jpg
END:VEVENT
BEGIN:VEVENT
DTSTART;TZID=UTC:20260628T000000
DTEND;TZID=UTC:20260628T235959
DTSTAMP:20260423T134811
CREATED:20260415T015116Z
LAST-MODIFIED:20260423T075026Z
UID:17046-1782604800-1782691199@garagestylemagazine.com
SUMMARY:Hillsborough Concours d’Elegance
DESCRIPTION:
URL:https://garagestylemagazine.com/event/hillsborough-concours-delegance/
LOCATION:Crystal Springs Golf Course\, Burlingame\, CA\, United States
CATEGORIES:Concours
ATTACH;FMTTYPE=image/jpeg:https://garagestylemagazine.com/wp-content/uploads/2026/04/images3.jpg
END:VEVENT
BEGIN:VEVENT
DTSTART;TZID=UTC:20260710T000000
DTEND;TZID=UTC:20260712T235959
DTSTAMP:20260423T134811
CREATED:20260415T015118Z
LAST-MODIFIED:20260423T075026Z
UID:17049-1783641600-1783900799@garagestylemagazine.com
SUMMARY:Northville Concours d’Elegance
DESCRIPTION:
URL:https://garagestylemagazine.com/event/northville-concours-delegance/
LOCATION:Mill Race Historical Village\, Northville\, MI\, United States
CATEGORIES:Concours
ATTACH;FMTTYPE=image/jpeg:https://garagestylemagazine.com/wp-content/uploads/2026/04/https___cdn.evbuc_.com_images_641165769_1300143096513_1_original.jpg
END:VEVENT
BEGIN:VEVENT
DTSTART;TZID=UTC:20260710T000000
DTEND;TZID=UTC:20260712T235959
DTSTAMP:20260423T134811
CREATED:20260421T015027Z
LAST-MODIFIED:20260423T075026Z
UID:17197-1783641600-1783900799@garagestylemagazine.com
SUMMARY:Concours at Copshaholm
DESCRIPTION:Set on the grounds of Copshaholm\, a 38-room estate built between 1895 and 1896\, the Concours at Copshaholm is a two-day festival of all things automotive hosted by the National Studebaker Museum. Learn more.
URL:https://garagestylemagazine.com/event/concours-at-copshaholm/
LOCATION:Copshaholm Mansion\, South Bend\, IN\, United States
CATEGORIES:Concours
ATTACH;FMTTYPE=image/png:https://garagestylemagazine.com/wp-content/uploads/2026/04/Picture1-1.png
END:VEVENT
BEGIN:VEVENT
DTSTART;TZID=UTC:20260712T000000
DTEND;TZID=UTC:20260712T235959
DTSTAMP:20260423T134811
CREATED:20260415T015119Z
LAST-MODIFIED:20260423T075026Z
UID:17052-1783814400-1783900799@garagestylemagazine.com
SUMMARY:Concours on The Palisades
DESCRIPTION:
URL:https://garagestylemagazine.com/event/concours-on-the-palisades/
LOCATION:Downtown Fort Lee\, Fort Lee\, NJ\, United States
CATEGORIES:Concours
ATTACH;FMTTYPE=image/jpeg:https://garagestylemagazine.com/wp-content/uploads/2026/04/FT-Lee-Car-Show-Post.jpg
END:VEVENT
BEGIN:VEVENT
DTSTART;VALUE=DATE:20260717
DTEND;VALUE=DATE:20260720
DTSTAMP:20260423T134811
CREATED:20260415T151654Z
LAST-MODIFIED:20260415T151654Z
UID:17082-1784246400-1784505599@garagestylemagazine.com
SUMMARY:DRIVE & DINE - Virginia Highlands Tour
DESCRIPTION:This annual fan favorite and true driver’s tour of 6+ hours each day of stunning Virginia countryside throughout Bath and Allegheny counties; this is always a memorable trip for all.  Our final destination is The Inn at Gristmill Square in Warm Springs\, VA where we will have a group dinner and be entertained by a local bluegrass band.  We will journey through the back roads by way of the Shenandoah and George Washington National Parks\, and visit Cass Scenic Railway\, Ingalls Field and Airport Road (Virginia’s “Teeth of the Dragon”). Registration will open on 18 April.  More Information to follow.
URL:https://garagestylemagazine.com/event/drive-dine-virginia-highlands-tour-2/
LOCATION:MI
CATEGORIES:Cruise
ATTACH;FMTTYPE=image/jpeg:https://garagestylemagazine.com/wp-content/uploads/2026/04/unnamed.jpg
END:VEVENT
BEGIN:VEVENT
DTSTART;TZID=UTC:20260717T000000
DTEND;TZID=UTC:20260719T235959
DTSTAMP:20260423T134811
CREATED:20260419T015025Z
LAST-MODIFIED:20260423T075026Z
UID:17173-1784246400-1784505599@garagestylemagazine.com
SUMMARY:Misselwood Concours d’Elegance
DESCRIPTION:
URL:https://garagestylemagazine.com/event/misselwood-concours-delegance/
LOCATION:The Misselwood Estate\, Beverly\, MA\, United States
CATEGORIES:Concours
ATTACH;FMTTYPE=image/jpeg:https://garagestylemagazine.com/wp-content/uploads/2026/04/images4.jpg
END:VEVENT
BEGIN:VEVENT
DTSTART;TZID=UTC:20260718T000000
DTEND;TZID=UTC:20260718T235959
DTSTAMP:20260423T134811
CREATED:20260420T015027Z
LAST-MODIFIED:20260423T075026Z
UID:17184-1784332800-1784419199@garagestylemagazine.com
SUMMARY:Keeneland Concours d’Elegance
DESCRIPTION:
URL:https://garagestylemagazine.com/event/keeneland-concours-delegance/
LOCATION:Keeneland\, Lexington\, KY\, United States
CATEGORIES:Concours
ATTACH;FMTTYPE=image/jpeg:https://garagestylemagazine.com/wp-content/uploads/2026/04/images5.jpg
END:VEVENT
BEGIN:VEVENT
DTSTART;TZID=UTC:20260719T000000
DTEND;TZID=UTC:20260719T235959
DTSTAMP:20260423T134811
CREATED:20260421T015030Z
LAST-MODIFIED:20260423T075026Z
UID:17201-1784419200-1784505599@garagestylemagazine.com
SUMMARY:Forest Grove Concours d’Elegance
DESCRIPTION:
URL:https://garagestylemagazine.com/event/forest-grove-concours-delegance/
LOCATION:Pacific University\, Forest Grove\, OR\, United States
CATEGORIES:Concours
ATTACH;FMTTYPE=image/jpeg:https://garagestylemagazine.com/wp-content/uploads/2026/04/dl.motorsportreg.jpg
END:VEVENT
BEGIN:VEVENT
DTSTART;VALUE=DATE:20260919
DTEND;VALUE=DATE:20260926
DTSTAMP:20260423T134811
CREATED:20260321T094123Z
LAST-MODIFIED:20260321T094455Z
UID:16767-1789776000-1790380799@garagestylemagazine.com
SUMMARY:2026 PCA Treffen at Sea!
DESCRIPTION:Join us for the 2026 PCA Treffen at Sea!\n\nPRESENTED BY\n\n \n6-Day Pacific Wine Country – Sept 19th – 25th\, 2026 \n\nSail from Vancouver\, Canada to Los Angeles\, CA with stops in San Francisco and Santa Barbara.\n\nBook now and take advantage of the best available cabins. PCA member rates start at $999 per guest and include all the benefits of Princess PLUS enjoy Porsche and partner seminars\, special events\, wine tastings\, die-cast Concours at Sea\, and incredible in-port experiences in partnership with local PCA Regions.\n\nClick here for more information!\n\n\n\n\nPCA Exclusive Excursions Include:\n\nSonoma Wine Country – Tuesday\, Sept 22 \n \nLos Olivos: California’s Riviera\, Food & Wine – Thursday\, Sept 24 \n\nSpeakers Include:\n\n\nAlwin Springer has been rooted in Porsche Motorsport for over 50 years – first as a technician\, and ultimately as CEO of Porsche Motorsport North America from 1990 to 2002. \n  \nBruce Meyer is a celebrated car collector\, real estate investor\, and founding chairman of the Petersen Automotive Museum in Los Angeles. \n\n  \n \n\nNathan Merz is an all-consuming Porsche fanatic who desires to know each model down to the minutiae. \n  \nTimothy McNair is the owner of Grand Prix Concours\, a company that specializes in detailing the finest motorcars for international events. \n  \n\nClick here for more information!
URL:https://garagestylemagazine.com/event/2026-pca-treffen-at-sea/
LOCATION:MI
CATEGORIES:Cruise
ATTACH;FMTTYPE=image/jpeg:https://garagestylemagazine.com/wp-content/uploads/2026/03/unnamed.jpg
END:VEVENT
END:VCALENDAR