BEGIN:VCALENDAR
VERSION:2.0
PRODID:-//Garage Style Magazine - ECPv6.15.20//NONSGML v1.0//EN
CALSCALE:GREGORIAN
METHOD:PUBLISH
X-WR-CALNAME:Garage Style Magazine
X-ORIGINAL-URL:https://garagestylemagazine.com
X-WR-CALDESC:Events for Garage Style Magazine
REFRESH-INTERVAL;VALUE=DURATION:PT1H
X-Robots-Tag:noindex
X-PUBLISHED-TTL:PT1H
BEGIN:VTIMEZONE
TZID:UTC
BEGIN:STANDARD
TZOFFSETFROM:+0000
TZOFFSETTO:+0000
TZNAME:UTC
DTSTART:20240101T000000
END:STANDARD
END:VTIMEZONE
BEGIN:VEVENT
DTSTART;VALUE=DATE:20250808
DTEND;VALUE=DATE:20250809
DTSTAMP:20260425T163500
CREATED:20250305T145353Z
LAST-MODIFIED:20250609T231956Z
UID:14419-1754611200-1754697599@garagestylemagazine.com
SUMMARY:Monterey Car Week Kickoff
DESCRIPTION:WeatherTech Raceway Laguna Seca kicks off Monterey Car Week with a classic car show in downtown Monterey on Alvarado Street.
URL:https://garagestylemagazine.com/event/monterey-car-week-kickoff/
LOCATION:Alvarado Street\, Alvarado Street\, Monterey\, CA\, United States
CATEGORIES:Shows
ATTACH;FMTTYPE=image/jpeg:https://garagestylemagazine.com/wp-content/uploads/2023/08/IMG_1234.jpg
END:VEVENT
BEGIN:VEVENT
DTSTART;VALUE=DATE:20250805
DTEND;VALUE=DATE:20250811
DTSTAMP:20260425T163500
CREATED:20250305T145126Z
LAST-MODIFIED:20250609T232004Z
UID:14416-1754352000-1754870399@garagestylemagazine.com
SUMMARY:MAG Auctions
DESCRIPTION:Held during Reno’s Hot August Nights event\, the MAG Auction brings a multitude of special interest vehicles and memorabilia to cross the block.
URL:https://garagestylemagazine.com/event/mag-auctions-2/
LOCATION:MAG Auctions – Hot August Nights\, 4590 South Virginia St.\, Reno\, NV\, 89502\, United States
CATEGORIES:Auction
ATTACH;FMTTYPE=image/png:https://garagestylemagazine.com/wp-content/uploads/2025/03/logo-web-top.png
END:VEVENT
BEGIN:VEVENT
DTSTART;VALUE=DATE:20250804
DTEND;VALUE=DATE:20250814
DTSTAMP:20260425T163500
CREATED:20250305T144946Z
LAST-MODIFIED:20250305T144946Z
UID:14413-1754265600-1755129599@garagestylemagazine.com
SUMMARY:Pebble Beach Motoring Classic
DESCRIPTION:A nearly 1\,500 mile drive from Kirkland\, Washington to Pebble Beach\, California\, the Motoring Classic is a great way to kick off Monterey Car Week.  Participants are selected by the Concours to join in the drive.  They will often go on to compete at the Concours itself as well.  Wednesday the 13th\, the cars will roll into Casa Palmero at Pebble Beach around 4pm\, and all are welcome to greet them as they arrive.  A rolling car show.
URL:https://garagestylemagazine.com/event/pebble-beach-motoring-classic/
LOCATION:VA
CATEGORIES:Cruise
ATTACH;FMTTYPE=image/jpeg:https://garagestylemagazine.com/wp-content/uploads/2025/03/Screenshot-2025-03-05-094933.jpg
END:VEVENT
BEGIN:VEVENT
DTSTART;VALUE=DATE:20250723
DTEND;VALUE=DATE:20250727
DTSTAMP:20260425T163500
CREATED:20250305T144519Z
LAST-MODIFIED:20250716T100717Z
UID:14411-1753228800-1753574399@garagestylemagazine.com
SUMMARY:MECUM Harrisburg
DESCRIPTION:A four-day event\, the Harrisburg sale is a Mecum tradition with a number of wonderful\, varied lots.  Expect around 1\,200 vehicles on offer. More details here.
URL:https://garagestylemagazine.com/event/mecum-harrisburg-2/
LOCATION:Farm Show Complex\, 2300 N Cameron St\, Harrisburg\, PA\, 17110\, United States
CATEGORIES:Auction
ATTACH;FMTTYPE=image/jpeg:https://garagestylemagazine.com/wp-content/uploads/2025/06/16132_701x397.43451725385909.jpg
END:VEVENT
BEGIN:VEVENT
DTSTART;VALUE=DATE:20250716
DTEND;VALUE=DATE:20250718
DTSTAMP:20260425T163500
CREATED:20250609T230814Z
LAST-MODIFIED:20250716T100556Z
UID:15179-1752624000-1752796799@garagestylemagazine.com
SUMMARY:Morphy Auction - Automobilia\, Petroliana\, & Railroadiana
DESCRIPTION:Speaking of Needful Things… Morphy Auctions is hosting another sale of spectacular signs July 16-17\, but bidding online is currently ongoing. Register as New User!  Known as the Automobilia\, Petroliana\, and Railroadiana sale\, a huge number of unique signs from the food and beverage\, automotive\, gas and oil\, and entertainment industries are on offer.  Check out their extensive  Catalog – July 16 & 17\, 2025 Automobilia\, Petroliana\, & Railroadiana.
URL:https://garagestylemagazine.com/event/morphy-auction-automobilia-petroliana-railroadiana/
LOCATION:VA
CATEGORIES:Auction
ATTACH;FMTTYPE=image/jpeg:https://garagestylemagazine.com/wp-content/uploads/2025/07/unnamed-3.jpg
ORGANIZER;CN="Morphy's Auctions":MAILTO:nfo@morphyauctions.com
END:VEVENT
BEGIN:VEVENT
DTSTART;VALUE=DATE:20250710
DTEND;VALUE=DATE:20250714
DTSTAMP:20260425T163500
CREATED:20250305T144141Z
LAST-MODIFIED:20250305T144141Z
UID:14402-1752105600-1752451199@garagestylemagazine.com
SUMMARY:Goodwood Festival of Speed
DESCRIPTION:A gathering of some of the world’s rarest and most interesting vehicles\, and of course embracing motorsports\, the FoS is an event unlike any other.
URL:https://garagestylemagazine.com/event/goodwood-festival-of-speed/
LOCATION:Goodwood Estate\, Chichester\, PO18 0PX\, Chichester\, Goodwood\, PO18 0PX\, United Kingdom
CATEGORIES:Motorsports
ATTACH;FMTTYPE=image/jpeg:https://garagestylemagazine.com/wp-content/uploads/2025/03/OIP-2.jpg
END:VEVENT
BEGIN:VEVENT
DTSTART;VALUE=DATE:20250710
DTEND;VALUE=DATE:20250713
DTSTAMP:20260425T163500
CREATED:20250305T144406Z
LAST-MODIFIED:20250305T144406Z
UID:14406-1752105600-1752364799@garagestylemagazine.com
SUMMARY:Iola Car Show and Swap Meet
DESCRIPTION:With a car show\, a car corral\, and a swap meet/flea market of 4\,000 spaces\, both indoor and outdoor\, the Iola Car Show is not to be missed.
URL:https://garagestylemagazine.com/event/iola-car-show-and-swap-meet-2/
LOCATION:Iola Car Show and Swap Meet\, 350 Chrome Place\, Iola\, WI\, 54945\, United States
CATEGORIES:Shows,Swap Meet
ATTACH;FMTTYPE=image/png:https://garagestylemagazine.com/wp-content/uploads/2025/03/CarshowLogo__5100-x-4327-pixels_.png
END:VEVENT
BEGIN:VEVENT
DTSTART;VALUE=DATE:20250709
DTEND;VALUE=DATE:20250713
DTSTAMP:20260425T163500
CREATED:20250305T143621Z
LAST-MODIFIED:20250305T143621Z
UID:14393-1752019200-1752364799@garagestylemagazine.com
SUMMARY:MECUM Kissimmee Summer Special
DESCRIPTION:A four-day event\, the Florida Summer Special should be fantastic\, with 1\,500 cars consigned and the fabulous weather of Florida.
URL:https://garagestylemagazine.com/event/mecum-kissimmee-summer-special/
LOCATION:Osceola Heritage Park\, 1875 Silver Spur Ln\, Kissimmee\, FL\, 34744\, United States
CATEGORIES:Auction
ATTACH;FMTTYPE=image/png:https://garagestylemagazine.com/wp-content/uploads/2022/10/mecum.png
END:VEVENT
BEGIN:VEVENT
DTSTART;VALUE=DATE:20250709
DTEND;VALUE=DATE:20250710
DTSTAMP:20260425T163500
CREATED:20250305T144001Z
LAST-MODIFIED:20250305T144001Z
UID:14399-1752019200-1752105599@garagestylemagazine.com
SUMMARY:RM Sotheby's: Cliveden House Hotel
DESCRIPTION:A second event for RM Sotheby’s at this historic country house hotel\, a number of very unique British cars have already been consigned\, and more are expected.
URL:https://garagestylemagazine.com/event/rm-sothebys-cliveden-house-hotel/
LOCATION:Cliveden House Hotel\, Taplow\, Berkshire\, United Kingdom
CATEGORIES:Auction
ATTACH;FMTTYPE=image/jpeg:https://garagestylemagazine.com/wp-content/uploads/2025/03/OIP.jpg
END:VEVENT
BEGIN:VEVENT
DTSTART;VALUE=DATE:20250706
DTEND;VALUE=DATE:20250711
DTSTAMP:20260425T163500
CREATED:20250305T143841Z
LAST-MODIFIED:20250305T143841Z
UID:14395-1751760000-1752191999@garagestylemagazine.com
SUMMARY:Emerald Invitational
DESCRIPTION:An event organized by Vintage Underground\, a restoration and build shop\, the Emerald Invitational is a driving event showcasing 1974 and older European cars against Oregon’s spectacular scenery.  Fueling an internship program\, the multi-stop\, multi-day tour should prove to be a fabulous time.  Our hope is that it’s successful enough to inspire an annual tour\, this being the first.
URL:https://garagestylemagazine.com/event/emerald-invitational/
LOCATION:VA
CATEGORIES:Concours
ATTACH;FMTTYPE=image/jpeg:https://garagestylemagazine.com/wp-content/uploads/2025/03/Screenshot-2025-03-05-093746.jpg
END:VEVENT
BEGIN:VEVENT
DTSTART;VALUE=DATE:20250706
DTEND;VALUE=DATE:20250707
DTSTAMP:20260425T163500
CREATED:20250324T104514Z
LAST-MODIFIED:20250324T104514Z
UID:14587-1751760000-1751846399@garagestylemagazine.com
SUMMARY:ACNA Social: Manchester Skyline Drive\, Manchester\, VT
DESCRIPTION:July\, 2025 – Exact Date TBD \nJoin us for a fun half-day driving the mountains of New England with a group of Audi enthusiasts! (registration not yet available)
URL:https://garagestylemagazine.com/event/acna-social-manchester-skyline-drive-manchester-vt/
LOCATION:VA
CATEGORIES:Meet Up,Shows
ATTACH;FMTTYPE=image/jpeg:https://garagestylemagazine.com/wp-content/uploads/2025/03/unnamed-4.jpg
END:VEVENT
BEGIN:VEVENT
DTSTART;VALUE=DATE:20250703
DTEND;VALUE=DATE:20250707
DTSTAMP:20260425T163500
CREATED:20250305T143515Z
LAST-MODIFIED:20250305T143515Z
UID:14390-1751500800-1751846399@garagestylemagazine.com
SUMMARY:Le Mans Classic
DESCRIPTION:Celebrating the Centenary 24 Hours of Le Mans in 2023 drew over 230\,000 visitors.  Created in 2002 by Peter Auto\, in association with the Automobile Club de L’Ouest\, Le Mans Classic offers a stunning retrospective of the 24 Hours of Le Mans.  Since its inception\, Le Mans Classic has evolved to become one of the very largest vintage auto gatherings in the world with roughly 700 racing cars on the track and more than 8\,000 special interest cars in attendance.
URL:https://garagestylemagazine.com/event/le-mans-classic/
LOCATION:Circuit de La Sarthe\, Le Mans\, Pays de la Loire\, France\, Le Mans\, France
CATEGORIES:Motorsports
ATTACH;FMTTYPE=image/jpeg:https://garagestylemagazine.com/wp-content/uploads/2025/03/le-mans-classic-2025.jpg
END:VEVENT
BEGIN:VEVENT
DTSTART;VALUE=DATE:20250629
DTEND;VALUE=DATE:20250630
DTSTAMP:20260425T163500
CREATED:20250305T142958Z
LAST-MODIFIED:20250305T142958Z
UID:14387-1751155200-1751241599@garagestylemagazine.com
SUMMARY:Bonhams Bonmont Sale
DESCRIPTION:It’s sixth event at Bonmont Golf & Country Club\, the venue is spectacular\, overlooking Lac Leman and a stone’s throw from Geneva.  Featuring a lovely assortment of roughly 30 special interest cars\, a number of supercars and hypercars normally lead the charge.  Held shortly after the world renowned 24 Hours of Le Mans\, there is little wonder why.
URL:https://garagestylemagazine.com/event/bonhams-bonmont-sale/
LOCATION:Bonmont Golf & Country Club\, Route de Bonmont\, Cheserex\, 1275\, Switzerland
CATEGORIES:Auction
ATTACH;FMTTYPE=image/jpeg:https://garagestylemagazine.com/wp-content/uploads/2025/03/Bonhams-Cars-logo-678.jpg
END:VEVENT
BEGIN:VEVENT
DTSTART;VALUE=DATE:20250628
DTEND;VALUE=DATE:20250629
DTSTAMP:20260425T163500
CREATED:20250324T104404Z
LAST-MODIFIED:20250324T104404Z
UID:14585-1751068800-1751155199@garagestylemagazine.com
SUMMARY:ACNA Social: Greater NY Air Show\, Queensbury\, NY
DESCRIPTION:The Great New York Airshow will feature thrilling aerial performances from military and civilian aircraft. (registration not yet available)
URL:https://garagestylemagazine.com/event/acna-social-greater-ny-air-show-queensbury-ny/
LOCATION:VA
CATEGORIES:Meet Up,Shows
ATTACH;FMTTYPE=image/jpeg:https://garagestylemagazine.com/wp-content/uploads/2025/03/unnamed-4.jpg
END:VEVENT
BEGIN:VEVENT
DTSTART;VALUE=DATE:20250613
DTEND;VALUE=DATE:20250617
DTSTAMP:20260425T163500
CREATED:20250324T121708Z
LAST-MODIFIED:20250324T121723Z
UID:14600-1749772800-1750118399@garagestylemagazine.com
SUMMARY:PCA POTOMAC DRIVE & DINE: Wild Wunderbar\, WV.
DESCRIPTION:Ready for a Summer getaway?  We are excited to offer this 3-night getaway (2-night minimum)\, June 13-16\, 2025\, to the beautiful Stonewall Resort State Park located in Roanoke\, WV.  Join us for an epic road trip through the scenic mountains of WV and unwind at a secluded lakeside retreat that offers a wide variety of indoor and outdoor recreational activities. While in WV\, we will enjoy an amazing lunch at the beautiful Graceland Inn Mansion\, dinner at the historic Wonder Bar Steakhouse and a drive to the Summit of Cheat Mountain for lunch at  Snowshoe Village. Space is limited to 50 participants. \nmsreg.com/2025WildWunderbar \n 
URL:https://garagestylemagazine.com/event/pca-potomac-drive-dine-wild-wunderbar-wv/
LOCATION:Stonewall Resort\, 940 Resort Dr\, Roanoke\, WV\, 26447\, United States
CATEGORIES:Cruise,Meet Up
ATTACH;FMTTYPE=image/jpeg:https://garagestylemagazine.com/wp-content/uploads/2024/03/unnamed-4.jpg
END:VEVENT
BEGIN:VEVENT
DTSTART;VALUE=DATE:20250611
DTEND;VALUE=DATE:20250616
DTSTAMP:20260425T163500
CREATED:20250305T142807Z
LAST-MODIFIED:20250305T142807Z
UID:14384-1749600000-1750031999@garagestylemagazine.com
SUMMARY:24 Hours of Le Mans
DESCRIPTION:This being the 93rd edition of the 24 Hours of Le Mans brings a return of manufacturers such as Aston Martin\, Alpine\, BMW\, Cadillac\, Ferrari\, Porsche\, Peugeot and Toyota and a host of drivers\, many well-seasoned\, some lesser known\, but all giving it their all to win the world’s most famous race.
URL:https://garagestylemagazine.com/event/24-hours-of-le-mans/
LOCATION:Circuit de La Sarthe\, Le Mans\, Pays de la Loire\, France\, Le Mans\, France
CATEGORIES:Motorsports
ATTACH;FMTTYPE=image/jpeg:https://garagestylemagazine.com/wp-content/uploads/2025/03/OIP-1-1.jpg
END:VEVENT
BEGIN:VEVENT
DTSTART;VALUE=DATE:20250606
DTEND;VALUE=DATE:20250608
DTSTAMP:20260425T163500
CREATED:20250305T142437Z
LAST-MODIFIED:20250305T142437Z
UID:14376-1749168000-1749340799@garagestylemagazine.com
SUMMARY:MECUM Oklahoma
DESCRIPTION:A two-day event\, this sale features over 600 cars on offer.  Held at Expo Square\, there are plenty of distractions when the auction is over.
URL:https://garagestylemagazine.com/event/mecum-oklahoma/
LOCATION:Sagenet Center at Expo Square\, Tulsa\, OK\, United States
CATEGORIES:Auction
ATTACH;FMTTYPE=image/png:https://garagestylemagazine.com/wp-content/uploads/2022/10/mecum.png
END:VEVENT
BEGIN:VEVENT
DTSTART;VALUE=DATE:20250602
DTEND;VALUE=DATE:20250609
DTSTAMP:20260425T163500
CREATED:20250305T142254Z
LAST-MODIFIED:20250305T142254Z
UID:14371-1748822400-1749427199@garagestylemagazine.com
SUMMARY:MAG Auctions
DESCRIPTION:Held at the Oregon Sate Fairgrounds in Salem\, Oregon\, this auction will spend June 2-6 selling special interest vehicles\, while June 7-8 will sustain vehicle sales\, but include a memorabilia auction beginning at 10am.
URL:https://garagestylemagazine.com/event/mag-auctions/
LOCATION:Oregon Sate Fairgrounds\, 2330 17th St. NE\, Salem\, 97301
CATEGORIES:Auction
ATTACH;FMTTYPE=image/png:https://garagestylemagazine.com/wp-content/uploads/2025/03/logo-web-top.png
END:VEVENT
BEGIN:VEVENT
DTSTART;VALUE=DATE:20250530
DTEND;VALUE=DATE:20250602
DTSTAMP:20260425T163500
CREATED:20250305T142049Z
LAST-MODIFIED:20250305T142049Z
UID:14367-1748563200-1748822399@garagestylemagazine.com
SUMMARY:Greenwich Concours d`Elegance
DESCRIPTION:With a Grand Tour\, a Concours de Sport\, Waterfront Party\, and full Concours d’Elegance\, the Greenwich Concours is another exciting event not to be missed.  Casually elegant\, the Greenwich Concours began in 1996 celebrating all-things-automobile when Bruce and Genia Wennerstrom founded the event.  Now considered one of the five top concours in the world\, its proximity to New York City and backdrop of Greenwich Harbor and the Long Island Sound\, the concours also offers a number of wonderful diversions outside of cars such as the Delamar Hotel\, lovely restaurants\, and boutique shops.
URL:https://garagestylemagazine.com/event/greenwich-concours-delegance/
LOCATION:Roger Sherman Baldwin Park\, 100 Arch St\, Greenwich\, CT\, 06830\, United States
CATEGORIES:Concours
ATTACH;FMTTYPE=image/svg+xml:https://garagestylemagazine.com/wp-content/uploads/2025/03/home-promo-logo.svg
END:VEVENT
BEGIN:VEVENT
DTSTART;VALUE=DATE:20250524
DTEND;VALUE=DATE:20250526
DTSTAMP:20260425T163500
CREATED:20250305T141650Z
LAST-MODIFIED:20250305T141650Z
UID:14357-1748044800-1748217599@garagestylemagazine.com
SUMMARY:Concorso d’Eleganza Villa d’Este Auction
DESCRIPTION:Partnering with BMW Group Classic\, Broad Arrow will bring 70 exceptional cars for sale to Lake Como at the stunning Villa Erba during the magnifiscent Concorso Villa d’Este.
URL:https://garagestylemagazine.com/event/concorso-deleganza-villa-deste-auction/
LOCATION:Villa Erba\, Cernobbio\, Italy
CATEGORIES:Auction
ATTACH;FMTTYPE=image/jpeg:https://garagestylemagazine.com/wp-content/uploads/2023/08/baa-logo-green-stacked-copy.jpg
ORGANIZER;CN="Broad Arrow Auctions":MAILTO:info@broadarrowauctions.com
END:VEVENT
BEGIN:VEVENT
DTSTART;VALUE=DATE:20250523
DTEND;VALUE=DATE:20250526
DTSTAMP:20260425T163500
CREATED:20250305T141913Z
LAST-MODIFIED:20250305T141913Z
UID:14361-1747958400-1748217599@garagestylemagazine.com
SUMMARY:Sandhills Motoring Expo
DESCRIPTION:With a multitude of events spread around Pinehurst\, North Carolina\, participants and spectators can enjoy a variety of activities.  Enjoy a concours\, an airport event\, a block party\, a road rally\, a number of culinary events\, and much more.  Largely set in the village of Pinehurst\, there are also plenty of shops and boutiques and cafes to enjoy.
URL:https://garagestylemagazine.com/event/sandhills-motoring-expo/
LOCATION:Sandhills Motoring Expo\, Pinehurst\, NC\, United States
ATTACH;FMTTYPE=image/jpeg:https://garagestylemagazine.com/wp-content/uploads/2025/03/Screenshot-2025-03-05-091835.jpg
END:VEVENT
BEGIN:VEVENT
DTSTART;VALUE=DATE:20250522
DTEND;VALUE=DATE:20250523
DTSTAMP:20260425T163500
CREATED:20250305T141517Z
LAST-MODIFIED:20250305T141517Z
UID:14354-1747872000-1747958399@garagestylemagazine.com
SUMMARY:RM Sotheby's: Fonderia Macchi Carlo
DESCRIPTION:Held at a remarkably unique venue well known for hosting events for some of the world’s best fashion houses\, the Milan Sale is a first for RM Sotheby’s.  The company expects roughly 50 cars to cross the block\, along with memorabilia including original racing suits.
URL:https://garagestylemagazine.com/event/rm-sothebys-fonderia-macchi-carlo/
LOCATION:Milan Fashion Houses\, Milan\, Italy
CATEGORIES:Auction
ATTACH;FMTTYPE=image/jpeg:https://garagestylemagazine.com/wp-content/uploads/2025/03/OIP.jpg
END:VEVENT
BEGIN:VEVENT
DTSTART;VALUE=DATE:20250518
DTEND;VALUE=DATE:20250519
DTSTAMP:20260425T163500
CREATED:20250324T121527Z
LAST-MODIFIED:20250324T121527Z
UID:14597-1747526400-1747612799@garagestylemagazine.com
SUMMARY:PCA POTOMAC DRIVE AND DINE to The Black Sheep Restaurant
DESCRIPTION:After a scenic drive of twists and turns through Fairfax and Prince William Counties\, enjoy brunch at The Black Sheep Restaurant in Manassas\, VA on Sunday\, May 18\, 2025. This two-story historic dairy barn built in 1929 has been converted into a restaurant with private dining rooms\, entertainment spaces\, and outdoor patio areas. \nAfter brunch and a short stroll\, listen to some live music at Farm Brew Live – The Yard Stage outdoor music venue. Where craft beer + live music = A rockin’ good time.  Space is limited to 60 guests. \nmsreg.com/2025BlackSheep
URL:https://garagestylemagazine.com/event/pca-potomac-drive-and-dine-to-the-black-sheep-restaurant/
LOCATION:The Black Sheep at 2 Silos\, Manassas\, VA\, United States
CATEGORIES:Meet Up,Road Rally
ATTACH;FMTTYPE=image/png:https://garagestylemagazine.com/wp-content/uploads/2025/03/unnamed-2.png
END:VEVENT
BEGIN:VEVENT
DTSTART;VALUE=DATE:20250518
DTEND;VALUE=DATE:20250519
DTSTAMP:20260425T163500
CREATED:20250305T141332Z
LAST-MODIFIED:20250305T141341Z
UID:14349-1747526400-1747612799@garagestylemagazine.com
SUMMARY:Benedict Castle Concours
DESCRIPTION:A wonderful event that supports the great cause of Teen Challenge\, the Benedict Castle Concours was the product of Nicole Meguiar who believed greatly in Teen Challenge and wanted to help it and those growing from it succeed.  All that aside\, it’s a terrific car show with a wonderful pool of various special interest cars and vendors held in the amazing setting of the Benedict Castle.
URL:https://garagestylemagazine.com/event/benedict-castle-concours/
LOCATION:Benedict Castle\, 5445 Chicago Ave.\, Riverside\, CA\, 92507\, United States
CATEGORIES:Concours
ATTACH;FMTTYPE=image/png:https://garagestylemagazine.com/wp-content/uploads/2025/03/bcc-logo.png
END:VEVENT
BEGIN:VEVENT
DTSTART;VALUE=DATE:20250509
DTEND;VALUE=DATE:20250518
DTSTAMP:20260425T163500
CREATED:20250305T141202Z
LAST-MODIFIED:20250509T151357Z
UID:14347-1746748800-1747526399@garagestylemagazine.com
SUMMARY:MECUM Indianapolis
DESCRIPTION:Going to any Mecum event is like hitting Temptation Island.  There’s a little something for everyone and one of their most exciting events is the Spring Classic at Indy.  This year\, Mecum celebrates its 38th year of the famed event and has some very cool items coming up for bid. \nBut – Mecum has made traveling to Temptation Island even easier\, thanks to their online auctions.  Online only\, Mecum On Time makes it easy to bid from the comfort of wherever you can get an internet connection.  Take a look at some items in store right now – of particular interest might be the Porsche factory poster collection. \nFeatured Lots Lot 241 - 7Up Single-Sided Tin Neon SignWith six colors of neon that have been added\, this three-piece sign measures a healthy 144x152x12 inches. An absolute rainbow of a sign\, it’s sure to be a jewel in any collection.   Lot 242 - Thunderbird Single-Sided Porcelain Neon SignA striking display certain to capture attention and elicit conversations\, this single-sided porcelain neon Thunderbird sign blocks a lot of sun\, measuring out to 192x136x12 inches.  Lot 258 -  Cushman Tow CartThis three-wheeler is sure to make life easier in a number of situations\, and while it’s a little rudimentary compared to some of the other items on offer from this collection\, we wondered if it might be the tool you’re looking for. Every garage needs one.  Lot 258 - Gulf Cushman GolfsterWe know\, just by virtue of its uniqueness and super cool Gulf paint scheme\, that if he’d had the chance\, Steve McQueen would have bought this thing.    Lot 230 - 1/18 Scale Animal House Movie CorvetteFew films are as legendary as Animal House. The film showcased a lot of up-and-comers and made stars out of seemingly everyone within. Even the Corvette!  Lot 504 - Dodge 440 Magnum Air Cleaner TopperDuring the muscle car heyday\, few engines were as feared as the Chrysler 440 CI V-8. Capable of 375 HP with the three two-barrel carburetors\, it was an absolutely formidable competitor right off the showroom floor.  Lot 354 - Porsche 50th Anniversary PosterFeaturing a 50th Anniversary Factory Poster celebrating Porsche's racing success. With bright photos and graphics\, trying to find another is likely going to prove very difficult. >> VIEW ALL GSM AUCTION LISTINGS
URL:https://garagestylemagazine.com/event/mecum-indianapolis-2/
LOCATION:Indiana State Fairgrounds\, 1202 E 38th Street\, Indianapolis\, IN\, 46205\, United States
CATEGORIES:Auction
ATTACH;FMTTYPE=image/png:https://garagestylemagazine.com/wp-content/uploads/2025/05/unnamed.png
END:VEVENT
BEGIN:VEVENT
DTSTART;VALUE=DATE:20250503
DTEND;VALUE=DATE:20250504
DTSTAMP:20260425T163500
CREATED:20250305T141005Z
LAST-MODIFIED:20250305T141005Z
UID:14344-1746230400-1746316799@garagestylemagazine.com
SUMMARY:Bonhams Miami Auction
DESCRIPTION:Taking place during the Formula 1 Crypto.com Miami Grand Prix\, this sale will host a number of motorsports-related vehicles and memorabilia.
URL:https://garagestylemagazine.com/event/bonhams-miami-auction/
LOCATION:Miami International Autodrome\, 347 Don Shula Dr.\, Miami Gardens\, FL\, United States
CATEGORIES:Auction
ATTACH;FMTTYPE=image/jpeg:https://garagestylemagazine.com/wp-content/uploads/2025/03/Bonhams-Cars-logo-678.jpg
END:VEVENT
BEGIN:VEVENT
DTSTART;VALUE=DATE:20250503
DTEND;VALUE=DATE:20250504
DTSTAMP:20260425T163500
CREATED:20250305T140840Z
LAST-MODIFIED:20250305T140840Z
UID:14339-1746230400-1746316799@garagestylemagazine.com
SUMMARY:Kentucky Derby Ocala Edition
DESCRIPTION:Celebrating the 151st Running of the Kentucky Derby in Ocala\, Florida\, Festivals of Speed will present over 200 special interest vehicles and luxury brands.  Located at the largest equestrian center in the United States within the horse capital of the world\, the hotel features 248 extra large suites and a number of retail\, dining\, socializing and other spaces.
URL:https://garagestylemagazine.com/event/kentucky-derby-ocala-edition/
LOCATION:World Equestrian Center\, 1750 NW 80th Ave.\, Ocala\, FL\, 32837\, United States
CATEGORIES:Shows
ATTACH;FMTTYPE=image/png:https://garagestylemagazine.com/wp-content/uploads/2025/03/FOS-NEW-LOGO-THIN-PNG-01-01.png
END:VEVENT
BEGIN:VEVENT
DTSTART;VALUE=DATE:20250426
DTEND;VALUE=DATE:20250428
DTSTAMP:20260425T163500
CREATED:20250305T140229Z
LAST-MODIFIED:20250609T232035Z
UID:14327-1745625600-1745798399@garagestylemagazine.com
SUMMARY:Bonhams Spring Stafford Sale
DESCRIPTION:An astonishing motorcycle sale filled with nearly 100 motorcycles and the like\, all are rare\, but some are rarer than others\, some have never been seen before.
URL:https://garagestylemagazine.com/event/bonhams-spring-stafford-sale/
LOCATION:Staffordshire County Showgrounds\, Weston Road\, Stafford\, ST18 0BD\, United Kingdom
CATEGORIES:Auction
ATTACH;FMTTYPE=image/jpeg:https://garagestylemagazine.com/wp-content/uploads/2025/03/Bonhams-Cars-logo-678.jpg
END:VEVENT
BEGIN:VEVENT
DTSTART;VALUE=DATE:20250426
DTEND;VALUE=DATE:20250427
DTSTAMP:20260425T163500
CREATED:20250305T140112Z
LAST-MODIFIED:20250609T232043Z
UID:14324-1745625600-1745711999@garagestylemagazine.com
SUMMARY:The Porsche Air/Water Auction
DESCRIPTION:In partnership with Air|Water and Luftgekuhlt\, Broad Arrow will host the second annual all-Porsche auction at the Orange County Fairgrounds in Costa Mesa\, CA.  Offering a variety of Porsche vehicles\, spectators will also be exposed to a number of specific automobilia pieces as well.
URL:https://garagestylemagazine.com/event/the-porsche-air-water-auction/
LOCATION:Orange County Fairgrounds\, 88 Fair Dr.\, Costa Mesa\, CA\, 92626\, United States
CATEGORIES:Auction
ATTACH;FMTTYPE=image/jpeg:https://garagestylemagazine.com/wp-content/uploads/2023/08/baa-logo-green-stacked-copy.jpg
ORGANIZER;CN="Broad Arrow Auctions":MAILTO:info@broadarrowauctions.com
END:VEVENT
BEGIN:VEVENT
DTSTART;VALUE=DATE:20250425
DTEND;VALUE=DATE:20250428
DTSTAMP:20260425T163500
CREATED:20250305T140633Z
LAST-MODIFIED:20250609T232049Z
UID:14335-1745539200-1745798399@garagestylemagazine.com
SUMMARY:La Jolla Concours d’Elegance
DESCRIPTION:With over 170 cars on display along the coastline of the Pacific Ocean\, the La Jolla Concours is one to see at least once in your life.  With a multitude of events and involvements and experiences available\, there is something for everyone including events in downtown\, VIP packages\, and much more.
URL:https://garagestylemagazine.com/event/la-jolla-concours-delegance/
LOCATION:ELLEN BROWNING SCRIPPS PARK\, 1133 Coast Blvd\, La Jolla\, CA\, 92037\, United States
CATEGORIES:Concours
ATTACH;FMTTYPE=image/png:https://garagestylemagazine.com/wp-content/uploads/2025/03/LJCDE-Logo-Lockup-LPL-Round-2025-NO_DATE-1.png
END:VEVENT
END:VCALENDAR