BEGIN:VCALENDAR
VERSION:2.0
PRODID:-//Garage Style Magazine - ECPv6.15.20//NONSGML v1.0//EN
CALSCALE:GREGORIAN
METHOD:PUBLISH
X-WR-CALNAME:Garage Style Magazine
X-ORIGINAL-URL:https://garagestylemagazine.com
X-WR-CALDESC:Events for Garage Style Magazine
REFRESH-INTERVAL;VALUE=DURATION:PT1H
X-Robots-Tag:noindex
X-PUBLISHED-TTL:PT1H
BEGIN:VTIMEZONE
TZID:UTC
BEGIN:STANDARD
TZOFFSETFROM:+0000
TZOFFSETTO:+0000
TZNAME:UTC
DTSTART:20250101T000000
END:STANDARD
END:VTIMEZONE
BEGIN:VEVENT
DTSTART;TZID=UTC:20260610T000000
DTEND;TZID=UTC:20260614T235959
DTSTAMP:20260425T231640
CREATED:20260415T195036Z
LAST-MODIFIED:20260424T015024Z
UID:17092-1781049600-1781481599@garagestylemagazine.com
SUMMARY:Porsche Parade 2026
DESCRIPTION:PCA Potomac – Phase 2 Registration for Porsche Parade Opens Wednesday\, April 15 at noon ET; Member Badges Order Window Opens (April 15 – May 15) \n\nIf you haven’t already registered for Porsche Parade\, PCA’s biggest event of the year\, don’t wait! Phase 1 Registration (Entry and Housing) will reopen with Phase 2 Registration (Events\, Tours\, and Banquets) on Wednesday\, April 15\, at noon ET! Tickets to events and tours sell out SUPER quickly. Make sure you register early and have information on hand\, such as meal selections\, tshirt sizes for volunteers\, competitive event selection for each participant\, birthdates of children attending\, PCA membership number of co-entrants\, your Porsche license plate and brand of tires\, and trailer details\, as applicable. \n\nPorsche Parade is PCA’s biggest event of the year! While attending the 2026 Porsche Parade\, you and your family will be able to experience all that Lake Placid and the Adirondack Mountains have to offer. Let’s head north to represent Potomac in style! \nWhen: June 14–20\, 2026 \nWhere: Lake Placid\, NY \nRegistration Opens: January 28 at 12 noon ET \nThe “hub” of the 2026 Porsche Parade will be the Lake Placid Olympic Center. The Center will host Banquets\, Parade Platz\, Concours d’Elegance\, Concours Prep\, Vendor Village\, Car Wash\, Tech Tactics\, PCA Juniors @ Parade\, Art Show\, RC cars\, and more. Don’t miss competitive events like Autocross\, TSD Rally\, Gimmick Rally\, Golf Tournament\, 5K\, SIM Racing\, and much more! \nThe Entrant Fee for the 2026 Porsche Parade is $300\, which includes one primary entrant and one co-entrant.
URL:https://garagestylemagazine.com/event/porsche-parade-2026/
LOCATION:Lake Placid Olympic Center\, 2634 Main St\, Lake Placid\, NY\, 12946\, United States
CATEGORIES:AutoCross,Banquet,Convention,Meeting,Road Rally,Social
ATTACH;FMTTYPE=image/png:https://garagestylemagazine.com/wp-content/uploads/2026/04/unnamed.png
END:VEVENT
BEGIN:VEVENT
DTSTART;TZID=UTC:20260621T100000
DTEND;TZID=UTC:20260621T150000
DTSTAMP:20260425T231640
CREATED:20260414T182041Z
LAST-MODIFIED:20260424T015023Z
UID:16995-1782036000-1782054000@garagestylemagazine.com
SUMMARY:Sully Antique Car Show
DESCRIPTION:The George Washington Chapter\, Inc. Model A Ford Club and the Fairfax County Park Authority will jointly sponsor the 51st Sully Antique Car Show on Father’s Day\, June 21\, 2026 at the Sully Historic Site\, 3650 Historic Sully Way\, Chantilly\, VA.\nModel A Ford Hot Rods; hundreds of old cars 25-years & older; Special Displays; Food Vendors; Century Cars Display; Music; and historic grounds information session included with admission.  Best in Show\, Sully Staff\, and 1st\, 2nd\, & 3rd place trophies per class awarded.\n \nSHOW CARS MUST PRE-REGISTER BY JUNE 17!\nSee GWCModelA.com mid-April for registration information.\nThe George Washington Chapter\, Inc. Model A Ford Club and the Fairfax County Park Authority will jointly sponsor the 51sth Sully Antique Car Show on Father’s Day\, June 15\, 2025 at the Sully Historic Site\, 3650 Historic Sully Way\, Chantilly\, VA.
URL:https://garagestylemagazine.com/event/sully-antique-car-show/
LOCATION:Sully Historic Site\, 3650 Historic Sully Way\, Chantilly\, VA\, 20151\, United States
CATEGORIES:Shows
ATTACH;FMTTYPE=image/jpeg:https://garagestylemagazine.com/wp-content/uploads/2026/04/Sully-Show.jpg
END:VEVENT
END:VCALENDAR