BEGIN:VCALENDAR
VERSION:2.0
PRODID:-//Garage Style Magazine - ECPv6.15.20//NONSGML v1.0//EN
CALSCALE:GREGORIAN
METHOD:PUBLISH
X-WR-CALNAME:Garage Style Magazine
X-ORIGINAL-URL:https://garagestylemagazine.com
X-WR-CALDESC:Events for Garage Style Magazine
REFRESH-INTERVAL;VALUE=DURATION:PT1H
X-Robots-Tag:noindex
X-PUBLISHED-TTL:PT1H
BEGIN:VTIMEZONE
TZID:UTC
BEGIN:STANDARD
TZOFFSETFROM:+0000
TZOFFSETTO:+0000
TZNAME:UTC
DTSTART:20240101T000000
END:STANDARD
END:VTIMEZONE
BEGIN:VEVENT
DTSTART;TZID=UTC:20250315T150000
DTEND;TZID=UTC:20250315T170000
DTSTAMP:20260426T024027
CREATED:20250308T104620Z
LAST-MODIFIED:20250308T104620Z
UID:14546-1742050800-1742058000@garagestylemagazine.com
SUMMARY:PCA FIRST SETTLERS REGION INVITES PCA MEMBERS
DESCRIPTION:PCA FIRST SETTLERS REGION INVITES PCA MEMBERS – 2nd Saturday Monthly Gathering \nJoin other members of PCA every second Saturday from 3-5PM at the Metro Diner in Fredericksburg. Hosted by First Settlers Region\, all Porsche car owners regardless of your membership region are welcome. You will gather to socialize\, discuss club events and all things Porsche. Guests are responsible for their own bill. We hope to take a nice group car photo to use for the official event flyer\, so don’t miss out. \nMetro Diner 2068 Plank Road Fredericksburg\, VA 22401\nPlease contact Steve Marcom with any questions at: gps@fsrpca.org
URL:https://garagestylemagazine.com/event/pca-first-settlers-region-invites-pca-members/
LOCATION:Metro Diner\, 2068 Plank Road\, Fredericksburg\, VA\, 22401\, United States
CATEGORIES:Meet Up
ATTACH;FMTTYPE=image/jpeg:https://garagestylemagazine.com/wp-content/uploads/2025/03/OIP-6.jpg
ORGANIZER;CN="Steve Marcom":MAILTO:gps@fsrpca.org
END:VEVENT
BEGIN:VEVENT
DTSTART;TZID=UTC:20250322T110000
DTEND;TZID=UTC:20250322T140000
DTSTAMP:20260426T024027
CREATED:20250308T102614Z
LAST-MODIFIED:20250308T102651Z
UID:14537-1742641200-1742652000@garagestylemagazine.com
SUMMARY:PCA POTOMAC DRIVE & DINE MONTHLY BRUNCHES
DESCRIPTION:All PCA members are welcome\, new and veterans alike. Plan on arriving a few minutes early to allow time to look at the cars and meet other Porsche enthusiasts. Registration is not required for these events. \nBrunch: The Irish Inn in Glen Echo\, MD (Sat.\, Mar 22 at 11AM)\n*RESCHEDULED: Due to St. Patrick’s Day\, we will be hosting this event on the 4th Saturday of March. \nThe Irish Inn in Glen Echo has been the long-time site of our Saturday brunches. Come enjoy brunch and conversation in a reserved room or outside\, weather permitting. The Irish Inn is located at 6119 Tulane Avenue\, Glen Echo MD 20812. \n● Brunch: Firebirds Grill in Gainesville\, VA (Sat.\, Apr 5th at 11AM) \nJoin us at Firebirds Wood-Fired Grille\, located at 14020 Promenade Commons St\, Gainesville\, VA 20155. Firebirds offers indoor seating and a comprehensive menu with brunch selections. Porsche parking is located behind the restaurant.
URL:https://garagestylemagazine.com/event/pca-potomac-drive-dine-monthly-brunches/
LOCATION:The Irish Inn in Glen Echo\, 6119 Tulane Ave\, Glen Echo\, MD\, 20812\, United States
CATEGORIES:Meet Up,Road Rally
ATTACH;FMTTYPE=image/png:https://garagestylemagazine.com/wp-content/uploads/2024/02/th_23rt33345u_pca_potomac_region_logo.png
END:VEVENT
BEGIN:VEVENT
DTSTART;TZID=UTC:20250329T090000
DTEND;TZID=UTC:20250329T133000
DTSTAMP:20260426T024027
CREATED:20250324T121252Z
LAST-MODIFIED:20250324T121315Z
UID:14593-1743238800-1743255000@garagestylemagazine.com
SUMMARY:“Intro to Concours” Class: Judging & Concours Prep Workshop
DESCRIPTION:Porsche of Silver Spring has graciously offered to host us for this event\, as they host their season opening Cars & Coffee on Saturday March 29th\, 2025. The goal of this event is to develop a pipeline of potential volunteers to assist with and participate as judges at our regional concours events by providing some background and requirements on the art of concours at the various club levels\, and provide enough information to encourage members who have been hesitant to enter their car in in these events to shine them-up and join the fun! \n \n*Please note: \nThe Cars & Coffee Event is hosted by Porsche of Silver Spring and runs from 9:00am -Noon.  The PCA Judging workshop & Concours-Prep is an overlapping event Scheduled from 10:00 am – 1:30pm           \nWe will use the upstairs conference room for presentation and will later move to one of the service areas or wash bay area for some light prep-areas discussion and or a detailing demonstration. \n–       We would like to ask in advance for some volunteers to stay after to help with the post-event clean-up given the graciousness of the Dealership host. \nRegistration is Open: http://msreg.com/ConcoursWorkshop25
URL:https://garagestylemagazine.com/event/intro-to-concours-class-judging-concours-prep-workshop/
LOCATION:NY
CATEGORIES:Concours
ATTACH;FMTTYPE=image/png:https://garagestylemagazine.com/wp-content/uploads/2025/03/unnamed-1-1.png
END:VEVENT
BEGIN:VEVENT
DTSTART;TZID=UTC:20250330T090000
DTEND;TZID=UTC:20250330T120000
DTSTAMP:20260426T024027
CREATED:20250308T104818Z
LAST-MODIFIED:20250308T104818Z
UID:14551-1743325200-1743336000@garagestylemagazine.com
SUMMARY:Porsche Arlington: Cars & Coffee Event
DESCRIPTION:
URL:https://garagestylemagazine.com/event/porsche-arlington-cars-coffee-event/
LOCATION:Porsche of Arlington\, 3100 Richmond Hwy\, Arlington\, VA\, 22202\, United States
CATEGORIES:Shows
ATTACH;FMTTYPE=image/jpeg:https://garagestylemagazine.com/wp-content/uploads/2025/03/unnamed-1.jpg
END:VEVENT
END:VCALENDAR