BEGIN:VCALENDAR
VERSION:2.0
PRODID:-//Garage Style Magazine - ECPv6.15.20//NONSGML v1.0//EN
CALSCALE:GREGORIAN
METHOD:PUBLISH
X-ORIGINAL-URL:https://garagestylemagazine.com
X-WR-CALDESC:Events for Garage Style Magazine
REFRESH-INTERVAL;VALUE=DURATION:PT1H
X-Robots-Tag:noindex
X-PUBLISHED-TTL:PT1H
BEGIN:VTIMEZONE
TZID:UTC
BEGIN:STANDARD
TZOFFSETFROM:+0000
TZOFFSETTO:+0000
TZNAME:UTC
DTSTART:20240101T000000
END:STANDARD
END:VTIMEZONE
BEGIN:VEVENT
DTSTART;TZID=UTC:20250315T150000
DTEND;TZID=UTC:20250315T170000
DTSTAMP:20260426T034556
CREATED:20250308T104620Z
LAST-MODIFIED:20250308T104620Z
UID:14546-1742050800-1742058000@garagestylemagazine.com
SUMMARY:PCA FIRST SETTLERS REGION INVITES PCA MEMBERS
DESCRIPTION:PCA FIRST SETTLERS REGION INVITES PCA MEMBERS – 2nd Saturday Monthly Gathering \nJoin other members of PCA every second Saturday from 3-5PM at the Metro Diner in Fredericksburg. Hosted by First Settlers Region\, all Porsche car owners regardless of your membership region are welcome. You will gather to socialize\, discuss club events and all things Porsche. Guests are responsible for their own bill. We hope to take a nice group car photo to use for the official event flyer\, so don’t miss out. \nMetro Diner 2068 Plank Road Fredericksburg\, VA 22401\nPlease contact Steve Marcom with any questions at: gps@fsrpca.org
URL:https://garagestylemagazine.com/event/pca-first-settlers-region-invites-pca-members/
LOCATION:Metro Diner\, 2068 Plank Road\, Fredericksburg\, VA\, 22401\, United States
CATEGORIES:Meet Up
ATTACH;FMTTYPE=image/jpeg:https://garagestylemagazine.com/wp-content/uploads/2025/03/OIP-6.jpg
ORGANIZER;CN="Steve Marcom":MAILTO:gps@fsrpca.org
END:VEVENT
END:VCALENDAR